BEGIN:VCALENDAR
VERSION:2.0
CALSCALE:GREGORIAN
METHOD:PUBLISH
PRODID://WEHO//1379400
BEGIN:VEVENT
DTSTAMP:20260424T125654
VTIMEZONE:America/Los_Angeles
DTSTART:20251224T170000Z
DTEND:20251225T020000Z
UID:1379400
SUMMARY:Christmas Eve - CHAMBER CLOSED
LOCATION:, CA
DESCRIPTION:Christmas Eve - CHAMBER CLOSED\n\n12/24/25 09:00 AM PST\n - 12/24/25 06:00 PM PST
X-ALT-DESC;FMTTYPE=text/html:Christmas Eve - CHAMBER CLOSED<br /><br />12/24/25 09:00 AM PST - 12/24/25 06:00 PM PST
PRIORITY:3
TRANSP:TRANSPARENT
BEGIN:VALARM
TRIGGER:-PT5M
ACTION:DISPLAY
DESCRIPTION:Reminder
END:VALARM
END:VEVENT
END:VCALENDAR
