BEGIN:VCALENDAR
VERSION:2.0
CALSCALE:GREGORIAN
METHOD:PUBLISH
PRODID://WEHO//1379401
BEGIN:VEVENT
DTSTAMP:20260424T130117
VTIMEZONE:America/Los_Angeles
DTSTART:20251225T170000Z
DTEND:20251226T020000Z
UID:1379401
SUMMARY:Christmas Day - CHAMBER CLOSED
LOCATION:, CA
DESCRIPTION:Christmas Day - CHAMBER CLOSED\n\n12/25/25 09:00 AM PST\n - 12/25/25 06:00 PM PST
X-ALT-DESC;FMTTYPE=text/html:Christmas Day - CHAMBER CLOSED<br /><br />12/25/25 09:00 AM PST - 12/25/25 06:00 PM PST
PRIORITY:3
TRANSP:TRANSPARENT
BEGIN:VALARM
TRIGGER:-PT5M
ACTION:DISPLAY
DESCRIPTION:Reminder
END:VALARM
END:VEVENT
END:VCALENDAR
