BEGIN:VCALENDAR
VERSION:2.0
CALSCALE:GREGORIAN
METHOD:PUBLISH
PRODID://WEHO//1379405
BEGIN:VEVENT
DTSTAMP:20260424T112912
VTIMEZONE:America/Los_Angeles
DTSTART:20260101T170000Z
DTEND:20260102T020000Z
UID:1379405
SUMMARY:New Year's Day - CHAMBER CLOSED
LOCATION:, CA
DESCRIPTION:New Year's Day - CHAMBER CLOSED\n\n01/01/26 09:00 AM PST\n - 01/01/26 06:00 PM PST
X-ALT-DESC;FMTTYPE=text/html:New Year's Day - CHAMBER CLOSED<br /><br />01/01/26 09:00 AM PST - 01/01/26 06:00 PM PST
PRIORITY:3
TRANSP:TRANSPARENT
BEGIN:VALARM
TRIGGER:-PT5M
ACTION:DISPLAY
DESCRIPTION:Reminder
END:VALARM
END:VEVENT
END:VCALENDAR
