BEGIN:VCALENDAR
VERSION:2.0
CALSCALE:GREGORIAN
METHOD:PUBLISH
PRODID://LASS//1380254
BEGIN:VEVENT
DTSTAMP:20260424T145946
VTIMEZONE:America/Los_Angeles
DTSTART:20251027T000000Z
DTEND:20251027T020000Z
UID:1380254
SUMMARY:Family Circus Harvest Party 
LOCATION:Susanville Assembly Of God, 473-465 Richmond Road , Susanville , Ca, 96130
DESCRIPTION:Family Circus Harvest Party \n\n10/26/25 05:00 PM PST\n - 10/26/25 07:00 PM PST\Description:\nFamily Circus Harvest Party!\n\n \n\nStep right up for an evening of family fun at the Susanville Assembly of God Church on Sunday, October 26, 2025, from 5 PM to 7 PM!\n\nThis FREE event is packed with excitement for all ages, featuring:\nGames, prizes & candy\nCookie walk & cotton candy\nFishing, hayrides & snow cones\nFace painting and so much more!\n\nBring the whole family and enjoy a festive fall celebration filled with laughter, fun activities, and community cheer.\n\nLocation: 473-465 Richmond Road, Susanville, CA\nFor more info: Call 530-260-0846\n\n \n\Details:\nFamily Circus Harvest Party!\n\n \n\nStep right up for an evening of family fun at the Susanville Assembly of God Church on Sunday, October 26, 2025, from 5 PM to 7 PM!\n\nThis FREE event is packed with excitement for all ages, featuring:\nGames, prizes & candy\nCookie walk & cotton candy\nFishing, hayrides & snow cones\nFace painting and so much more!\n\nBring the whole family and enjoy a festive fall celebration filled with laughter, fun activities, and community cheer.\n\nLocation: 473-465 Richmond Road, Susanville, CA\nFor more info: Call 530-260-0846\n\n \n\Location:\nSusanville Assembly Of God\n473-465 Richmond Road \nSusanville , Ca 96130
X-ALT-DESC;FMTTYPE=text/html:Family Circus Harvest Party <br /><br />10/26/25 05:00 PM PST - 10/26/25 07:00 PM PST<br />Description:<br /><p><u><em><strong>Family Circus Harvest Party!</strong></em></u></p>

<p>&nbsp;</p>

<p><em>Step right up for an evening of family fun at the Susanville Assembly of God Church on Sunday, October 26, 2025, from 5 PM to 7 PM!</em></p>

<p><em>This FREE event is packed with excitement for all ages, featuring:</em><br />
<em>Games, prizes &amp; candy</em><br />
<em>Cookie walk &amp; cotton candy</em><br />
<em>Fishing, hayrides &amp; snow cones</em><br />
<em>Face painting and so much more!</em></p>

<p><em>Bring the whole family and enjoy a festive fall celebration filled with laughter, fun activities, and community cheer.</em></p>

<p><em>Location: 473-465 Richmond Road, Susanville, CA</em><br />
<em>For more info: Call 530-260-0846</em></p>

<p>&nbsp;</p>
<br />Details:<br /><p><u><em><strong>Family Circus Harvest Party!</strong></em></u></p>

<p>&nbsp;</p>

<p><em>Step right up for an evening of family fun at the Susanville Assembly of God Church on Sunday, October 26, 2025, from 5 PM to 7 PM!</em></p>

<p><em>This FREE event is packed with excitement for all ages, featuring:</em><br />
<em>Games, prizes &amp; candy</em><br />
<em>Cookie walk &amp; cotton candy</em><br />
<em>Fishing, hayrides &amp; snow cones</em><br />
<em>Face painting and so much more!</em></p>

<p><em>Bring the whole family and enjoy a festive fall celebration filled with laughter, fun activities, and community cheer.</em></p>

<p><em>Location: 473-465 Richmond Road, Susanville, CA</em><br />
<em>For more info: Call 530-260-0846</em></p>

<p>&nbsp;</p>
<br />Location:<br />Susanville Assembly Of God<br />473-465 Richmond Road <br />Susanville , Ca 96130
PRIORITY:3
TRANSP:TRANSPARENT
BEGIN:VALARM
TRIGGER:-PT5M
ACTION:DISPLAY
DESCRIPTION:Reminder
END:VALARM
END:VEVENT
END:VCALENDAR
