BEGIN:VCALENDAR
VERSION:2.0
CALSCALE:GREGORIAN
METHOD:PUBLISH
PRODID://LASS//1380269
BEGIN:VEVENT
DTSTAMP:20260424T150000
VTIMEZONE:America/Los_Angeles
DTSTART:20251008T180000Z
DTEND:20251008T190000Z
UID:1380269
SUMMARY:October Storytime
LOCATION:, 1618 Main Street , Susanville , CA, 96130
DESCRIPTION:October Storytime\n\n10/08/25 11:00 AM PST\n - 10/08/25 12:00 PM PST\Description:\nOctober Storytime at the Library! \n\n \n\nJoin us every Wednesday at 11 AM in the Children’s Room for a magical month of stories, playdays, and spook-tacular crafts! Each week brings a new adventure filled with imagination, creativity, and Halloween fun. From mummies and brooms to bats, bones, and pumpkins, there’s something for every little ghost and goblin to enjoy.\n\n \n\nSchedule Highlights:\n\n \n\nOct 1 – Story & Mummy Craft\n\n \n\nOct 8 – Story & Broom Craft\n\n \n\nOct 15 – Story & Bat Craft\n\n \n\nOct 22 – Story & Bone Craft\n\n \n\nOct 29 – Story & Halloween Craft\n\Details:\nOctober Storytime at the Library! \n\nJoin us every Wednesday at 11 AM in the Children’s Room for a magical month of stories, playdays, and spook-tacular crafts! Each week brings a new adventure filled with imagination, creativity, and Halloween fun. From mummies and brooms to bats, bones, and pumpkins, there’s something for every little ghost and goblin to enjoy.\n\nSchedule Highlights:\n\n \n\nOct 1 – Story & Mummy Craft\n\n \n\nOct 8 – Story & Broom Craft\n\n \n\nOct 15 – Story & Bat Craft\n\n \n\nOct 22 – Story & Bone Craft\n\n \n\nOct 29 – Story & Halloween Craft\n\Location:\n\n1618 Main Street \nSusanville , CA 96130
X-ALT-DESC;FMTTYPE=text/html:October Storytime<br /><br />10/08/25 11:00 AM PST - 10/08/25 12:00 PM PST<br />Description:<br /><p><u><em><strong>October Storytime at the Library!&nbsp;</strong></em></u></p>

<p>&nbsp;</p>

<p><em>Join us every Wednesday at 11 AM in the Children&rsquo;s Room for a magical month of stories, playdays, and spook-tacular crafts! Each week brings a new adventure filled with imagination, creativity, and Halloween fun. From mummies and brooms to bats, bones, and pumpkins, there&rsquo;s something for every little ghost and goblin to enjoy.</em></p>

<p>&nbsp;</p>

<p><em>Schedule Highlights:</em></p>

<p>&nbsp;</p>

<p><em>Oct 1 &ndash; Story &amp; Mummy Craft</em></p>

<p>&nbsp;</p>

<p><em>Oct 8 &ndash; Story &amp; Broom Craft</em></p>

<p>&nbsp;</p>

<p><em>Oct 15 &ndash; Story &amp; Bat Craft</em></p>

<p>&nbsp;</p>

<p><em>Oct 22 &ndash; Story &amp; Bone Craft</em></p>

<p>&nbsp;</p>

<p><em>Oct 29 &ndash; Story &amp; Halloween Craft</em></p>
<br />Details:<br /><p><u><em><strong>October Storytime at the Library!&nbsp;</strong></em></u></p>

<p><em>Join us every Wednesday at 11 AM in the Children&rsquo;s Room for a magical month of stories, playdays, and spook-tacular crafts! Each week brings a new adventure filled with imagination, creativity, and Halloween fun. From mummies and brooms to bats, bones, and pumpkins, there&rsquo;s something for every little ghost and goblin to enjoy.</em></p>

<p><em>Schedule Highlights:</em></p>

<p>&nbsp;</p>

<p><em>Oct 1 &ndash; Story &amp; Mummy Craft</em></p>

<p>&nbsp;</p>

<p><em>Oct 8 &ndash; Story &amp; Broom Craft</em></p>

<p>&nbsp;</p>

<p><em>Oct 15 &ndash; Story &amp; Bat Craft</em></p>

<p>&nbsp;</p>

<p><em>Oct 22 &ndash; Story &amp; Bone Craft</em></p>

<p>&nbsp;</p>

<p><em>Oct 29 &ndash; Story &amp; Halloween Craft</em></p>
<br />Location:<br /><br />1618 Main Street <br />Susanville , CA 96130
PRIORITY:3
TRANSP:TRANSPARENT
BEGIN:VALARM
TRIGGER:-PT5M
ACTION:DISPLAY
DESCRIPTION:Reminder
END:VALARM
END:VEVENT
END:VCALENDAR
