BEGIN:VCALENDAR
VERSION:2.0
CALSCALE:GREGORIAN
METHOD:PUBLISH
PRODID://OCON//1380582
BEGIN:VEVENT
DTSTAMP:20260424T153432
VTIMEZONE:America/New_York
DTSTART:20251107T131500Z
DTEND:20251107T141500Z
UID:1380582
SUMMARY:PowerHour | Sponsored by Watkinsville Urgent Care
LOCATION:Oconee County Chamber Of Commerce, 55 Nancy Drive, Watkinsville, GA, 30677
DESCRIPTION:PowerHour | Sponsored by Watkinsville Urgent Care\n\n11/07/25 08:15 AM EST\n - 11/07/25 09:15 AM EST\Description:\nJoin us for a PowerHour event - a fun-filled morning with an icebreaker or networking game!\Location:\nOconee County Chamber Of Commerce\n55 Nancy Drive\nWatkinsville, GA 30677
X-ALT-DESC;FMTTYPE=text/html:PowerHour | Sponsored by Watkinsville Urgent Care<br /><br />11/07/25 08:15 AM EST - 11/07/25 09:15 AM EST<br />Description:<br />Join us for a&nbsp;PowerHour&nbsp;event - a fun-filled morning with an icebreaker or networking game!<br />Location:<br />Oconee County Chamber Of Commerce<br />55 Nancy Drive<br />Watkinsville, GA 30677
PRIORITY:3
TRANSP:TRANSPARENT
BEGIN:VALARM
TRIGGER:-PT5M
ACTION:DISPLAY
DESCRIPTION:Reminder
END:VALARM
END:VEVENT
END:VCALENDAR
