BEGIN:VCALENDAR
VERSION:2.0
CALSCALE:GREGORIAN
METHOD:PUBLISH
PRODID://KING//1380714
BEGIN:VEVENT
DTSTAMP:20260422T053751
VTIMEZONE:America/Denver
DTSTART:20251108T170000Z
DTEND:20251108T190000Z
UID:1380714
SUMMARY:Kingman Veterans Day Parade
LOCATION:Beale Sstreet, Beale, Kingman, az, 86401
DESCRIPTION:Kingman Veterans Day Parade\n\n11/08/25 10:00 AM MST\n - 11/08/25 12:00 PM MST\Description:\nKingman Veterans Day Parade\n\n \Details:\nRegistration to parade $25.00\n\n7:00am line up starting at check in at Lee Williams High School\n\nSpectators free\n\nParade starts on 5th and Beale to 1st\Location:\nBeale Sstreet\nBeale\nKingman, az 86401
X-ALT-DESC;FMTTYPE=text/html:Kingman Veterans Day Parade<br /><br />11/08/25 10:00 AM MST - 11/08/25 12:00 PM MST<br />Description:<br />Kingman Veterans Day Parade<br />
<br />
&nbsp;<br />Details:<br />Registration to parade $25.00<br />
<br />
7:00am line up starting at check in at Lee Williams High School<br />
<br />
Spectators free<br />
<br />
Parade starts on 5th and Beale to 1st<br />Location:<br />Beale Sstreet<br />Beale<br />Kingman, az 86401
PRIORITY:3
TRANSP:TRANSPARENT
BEGIN:VALARM
TRIGGER:-PT5M
ACTION:DISPLAY
DESCRIPTION:Reminder
END:VALARM
END:VEVENT
END:VCALENDAR
