BEGIN:VCALENDAR
VERSION:2.0
CALSCALE:GREGORIAN
METHOD:PUBLISH
PRODID://RRCC//1380738
BEGIN:VEVENT
DTSTAMP:20260422T041600
VTIMEZONE:America/Chicago
DTSTART:20251025T230000Z
DTEND:20251026T010000Z
UID:1380738
SUMMARY:Barn Dance & Stew Supper Benefiting Clarksville Food Pantry
LOCATION:, TX
DESCRIPTION:Barn Dance & Stew Supper Benefiting Clarksville Food Pantry\n\n10/25/25 06:00 PM CST\n - 10/25/25 08:00 PM CST\Description:\nOn October 25, 2025, from 6:00 p.m. to 8:00 p.m., the Double R Cowboy Church at 485 Farm Road 1159 in Clarksville, Texas is hosting a barn dance & stew supper benefitting the Clarksville Food Pantry.  The Double R Band, Aaron Parker, Jeff Jackson and Trinity Langford will provide Good Ol' County Music as entertainment for the benefit.  
X-ALT-DESC;FMTTYPE=text/html:Barn Dance & Stew Supper Benefiting Clarksville Food Pantry<br /><br />10/25/25 06:00 PM CST - 10/25/25 08:00 PM CST<br />Description:<br />On October 25, 2025, from 6:00 p.m. to 8:00 p.m., the Double R Cowboy Church at 485 Farm Road 1159 in Clarksville, Texas is hosting a barn dance &amp; stew supper&nbsp;benefitting the Clarksville Food Pantry.&nbsp; The Double R Band, Aaron Parker, Jeff Jackson and Trinity Langford will provide Good Ol' County Music as entertainment for the benefit.&nbsp;&nbsp;
PRIORITY:3
TRANSP:TRANSPARENT
BEGIN:VALARM
TRIGGER:-PT5M
ACTION:DISPLAY
DESCRIPTION:Reminder
END:VALARM
END:VEVENT
END:VCALENDAR
