BEGIN:VCALENDAR
VERSION:2.0
CALSCALE:GREGORIAN
METHOD:PUBLISH
PRODID://RRCC//1380876
BEGIN:VEVENT
DTSTAMP:20260422T042354
VTIMEZONE:America/Chicago
DTSTART:20251021T230000Z
DTEND:20251022T010000Z
UID:1380876
SUMMARY:101st Chamber of Commerce Banquet
LOCATION:, TX
DESCRIPTION:101st Chamber of Commerce Banquet\n\n10/21/25 06:00 PM CST\n - 10/21/25 08:00 PM CST\Description:\nThe 101st banquet of The Historic Red River County Chamber of Commerce is on Tuesday, October 21, 2025 at 6:00 p.m. in the Clarksville High School auditorium. Tickets are $20.00 each and may be purchased in advance or at the door.  Our meal is chicken spaghetti catered by The Kitchen, in Detroit, Texas, which is owned by Amy Deere.\n\nOur program is the presentation of civic awards for Citizen of the Year, George F. Sunkel, Pioneer Business and Organization of the Year.  Please RSVP by Wednesday, October 15, 2025 by calling 903-427-2645, by fax to 903-427-5454 or via email to redrivercc@yahoo.com.   
X-ALT-DESC;FMTTYPE=text/html:101st Chamber of Commerce Banquet<br /><br />10/21/25 06:00 PM CST - 10/21/25 08:00 PM CST<br />Description:<br />The 101st banquet of The Historic Red River County Chamber of Commerce is on Tuesday, October 21, 2025 at 6:00 p.m. in the Clarksville High School auditorium.&nbsp;Tickets are $20.00 each and may be purchased in advance or at the door.&nbsp; Our meal is chicken spaghetti catered by The Kitchen, in Detroit, Texas, which is owned by Amy Deere.<br />
<br />
Our program is the presentation of&nbsp;civic awards for Citizen of the Year, George F. Sunkel, Pioneer Business and Organization of the Year.&nbsp;&nbsp;Please RSVP by Wednesday, October 15, 2025 by calling 903-427-2645, by fax to 903-427-5454 or via email to&nbsp;redrivercc@yahoo.com.&nbsp; &nbsp;
PRIORITY:3
TRANSP:TRANSPARENT
BEGIN:VALARM
TRIGGER:-PT5M
ACTION:DISPLAY
DESCRIPTION:Reminder
END:VALARM
END:VEVENT
END:VCALENDAR
