BEGIN:VCALENDAR
VERSION:2.0
CALSCALE:GREGORIAN
METHOD:PUBLISH
PRODID://KING//1381099
BEGIN:VEVENT
DTSTAMP:20260422T065728
VTIMEZONE:America/Phoenix
DTSTART:20251024T170000Z
DTEND:20251024T200000Z
UID:1381099
SUMMARY:CDL Career Fair & Anniversary Event
LOCATION:Advanced Manufacturing Training Center, 4415 N. Windrose Ln., Kingman, AZ, 86401
DESCRIPTION:CDL Career Fair & Anniversary Event\n\n10/24/25 10:00 AM MT\n - 10/24/25 01:00 PM MT\Description:\nReady for the next opportunity in your trucking career? We’re hosting a CDL Career Fair in celebration of our 5th anniversary!\n\nGet the chance to interview with multiple carriers at once, learn about our training if you don’t currently have your CDL, and celebrate with us. Plus, our knowledgeable admissions team will be available on-site to answer any questions you have about obtaining your CDL and our school’s training programs.\n\nWhat you can expect from our trucking career fair:\n- Speak to multiple carriers about current & upcoming driving opportunities\n- Explore the various career options you have with your CDL\n- Bring a friend & learn about the many benefits of team driving\n- Enter for a chance to win gift cards, apparel, & more!\n\nPrepare for a day of fun and drive your future forward! See you October 24th\n\nEvent will take place at the new AMTC building near the airport:\n4415 N. Windrose Ln.\nKingman, AZ 86401\Details:\nFree\Location:\nAdvanced Manufacturing Training Center\n4415 N. Windrose Ln.\nKingman, AZ 86401
X-ALT-DESC;FMTTYPE=text/html:CDL Career Fair & Anniversary Event<br /><br />10/24/25 10:00 AM MT - 10/24/25 01:00 PM MT<br />Description:<br /><span style="font-size:14px"><strong>Ready for the next opportunity in your trucking career?&nbsp;</strong>We&rsquo;re hosting a CDL Career Fair in celebration of our 5th anniversary!<br />
<br />
Get the chance to interview with multiple carriers at once, learn about our training if you don&rsquo;t currently have your CDL, and celebrate with us. Plus, our knowledgeable admissions team will be available on-site to answer any questions you have about obtaining your CDL and our school&rsquo;s training programs.<br />
<br />
<strong>What you can expect from our trucking career fair:</strong><br />
- Speak to multiple carriers about current &amp; upcoming driving opportunities<br />
- Explore the various career options you have with your CDL<br />
- Bring a friend &amp; learn about the many benefits of team driving<br />
- Enter for a chance to win gift cards, apparel, &amp; more!<br />
<br />
Prepare for a day of fun and drive your future forward! See you October 24th<br />
<br />
Event will take place at the new AMTC building near the airport:<br />
4415 N. Windrose Ln.<br />
Kingman, AZ 86401</span><br />Details:<br />Free<br />Location:<br />Advanced Manufacturing Training Center<br />4415 N. Windrose Ln.<br />Kingman, AZ 86401
PRIORITY:3
TRANSP:TRANSPARENT
BEGIN:VALARM
TRIGGER:-PT5M
ACTION:DISPLAY
DESCRIPTION:Reminder
END:VALARM
END:VEVENT
END:VCALENDAR
