BEGIN:VCALENDAR
VERSION:2.0
CALSCALE:GREGORIAN
METHOD:PUBLISH
PRODID://TSCC//1381415
BEGIN:VEVENT
DTSTAMP:20260424T171548
VTIMEZONE:America/Denver
DTSTART:20251025T190000Z
DTEND:20251025T230000Z
UID:1381415
SUMMARY:Legends Trunk-or-Treat
LOCATION:Legends Container Shops , 533 South 1750 West unit c 2, Springville, UT, 84663
DESCRIPTION:Legends Trunk-or-Treat\n\n10/25/25 01:00 PM MST\n - 10/25/25 05:00 PM MST\Description:\nTrunk-Or-Treat/Car Show\n\nAddress:\nLegends Container Shops\n533 South 1750 West unit c 2\nSpringville UT 84663\n\nDetails w/ costs:\nCar show Registration 11:30am-1:00pm\n\nCar show/Trunk-or-treat 1:00pm-5:00pm \n\nAll cars welcome from classics to racers, motorcycles to dump trucks\n\nEntry fee is a bag of candy \n\Details:\nCar show Registration 11:30am-1:00pm\nCar show/Trunk-or-treat 1:00pm-5:00pm \nAll cars welcome from classics to racers, motorcycles to dump trucks\nEntry fee is a bag of candy \Location:\nLegends Container Shops \n533 South 1750 West unit c 2\nSpringville, UT 84663
X-ALT-DESC;FMTTYPE=text/html:Legends Trunk-or-Treat<br /><br />10/25/25 01:00 PM MST - 10/25/25 05:00 PM MST<br />Description:<br /><p data-end="862" data-start="681">Trunk-Or-Treat/Car Show<br />
<br />
Address:<br />
Legends Container Shops<br />
533 South 1750 West unit c 2<br />
Springville UT 84663<br />
<br />
Details w/ costs:<br />
Car show Registration 11:30am-1:00pm<br />
<br />
Car show/Trunk-or-treat 1:00pm-5:00pm&nbsp;<br />
<br />
All cars welcome from classics to racers, motorcycles to dump trucks<br />
<br />
Entry fee is a bag of candy&nbsp;</p>
<br />Details:<br />Car show Registration 11:30am-1:00pm<br />
Car show/Trunk-or-treat 1:00pm-5:00pm&nbsp;<br />
All cars welcome from classics to racers, motorcycles to dump trucks<br />
Entry fee is a bag of candy&nbsp;<br />Location:<br />Legends Container Shops <br />533 South 1750 West unit c 2<br />Springville, UT 84663
PRIORITY:3
TRANSP:TRANSPARENT
BEGIN:VALARM
TRIGGER:-PT5M
ACTION:DISPLAY
DESCRIPTION:Reminder
END:VALARM
END:VEVENT
END:VCALENDAR
