BEGIN:VCALENDAR
VERSION:2.0
CALSCALE:GREGORIAN
METHOD:PUBLISH
PRODID://JCOC//1382679
BEGIN:VEVENT
DTSTAMP:20260424T135309
VTIMEZONE:America/Chicago
DTSTART:20260123T000000Z
DTEND:20260123T020000Z
UID:1382679
SUMMARY:Sourdough Workshop
LOCATION:Bridges Mercantile, 108 E. Main Street, Jenks, OK, 74037
DESCRIPTION:Sourdough Workshop\n\n01/22/26 06:00 PM CST\n - 01/22/26 08:00 PM CST\Description:\nBridges Beginner Sourdough Workshop\n\nFriday, October 10th\n\n6 PM\n\nBridges Mercantile\n\n108 E Main St. Jenks OK 74037\n\nSpace is limited, so sign up now to secure your spot!\n\nhttp://https//bridgestulsa.ejoinme.org/sourdoughregistration\n\Location:\nBridges Mercantile\n108 E. Main Street\nJenks, OK 74037
X-ALT-DESC;FMTTYPE=text/html:Sourdough Workshop<br /><br />01/22/26 06:00 PM CST - 01/22/26 08:00 PM CST<br />Description:<br /><h2>Bridges Beginner Sourdough Workshop</h2>

<p>Friday, October 10th</p>

<p>6 PM</p>

<p>Bridges Mercantile</p>

<p>108 E Main St. Jenks OK 74037</p>

<h1>Space is limited, so sign up now to secure your spot!</h1>

<p><a href="http://https//bridgestulsa.ejoinme.org/sourdoughregistration">http://https//bridgestulsa.ejoinme.org/sourdoughregistration</a></p>
<br />Location:<br />Bridges Mercantile<br />108 E. Main Street<br />Jenks, OK 74037
PRIORITY:3
TRANSP:TRANSPARENT
BEGIN:VALARM
TRIGGER:-PT5M
ACTION:DISPLAY
DESCRIPTION:Reminder
END:VALARM
END:VEVENT
END:VCALENDAR
