BEGIN:VCALENDAR
VERSION:2.0
CALSCALE:GREGORIAN
METHOD:PUBLISH
PRODID://JCOC//1382683
BEGIN:VEVENT
DTSTAMP:20260424T150119
VTIMEZONE:America/Chicago
DTSTART:20251212T000000Z
DTEND:20251212T020000Z
UID:1382683
SUMMARY:Christmas Cookie Workshop - Bridges Mercantile
LOCATION:Bridges Mercantile, 108 E. Main Street, Jenks, OK, 74037
DESCRIPTION:Christmas Cookie Workshop - Bridges Mercantile\n\n12/11/25 06:00 PM CST\n - 12/11/25 08:00 PM CST\Description:\nDelightful Bakery adventure with master baker Will Spoon! Discover how to create the perfect Christmas Cookies! \Location:\nBridges Mercantile\n108 E. Main Street\nJenks, OK 74037
X-ALT-DESC;FMTTYPE=text/html:Christmas Cookie Workshop - Bridges Mercantile<br /><br />12/11/25 06:00 PM CST - 12/11/25 08:00 PM CST<br />Description:<br />Delightful Bakery adventure with master baker Will Spoon! Discover how to create the perfect Christmas Cookies!&nbsp;<br />Location:<br />Bridges Mercantile<br />108 E. Main Street<br />Jenks, OK 74037
PRIORITY:3
TRANSP:TRANSPARENT
BEGIN:VALARM
TRIGGER:-PT5M
ACTION:DISPLAY
DESCRIPTION:Reminder
END:VALARM
END:VEVENT
END:VCALENDAR
