BEGIN:VCALENDAR
VERSION:2.0
CALSCALE:GREGORIAN
METHOD:PUBLISH
PRODID://JCOC//1382743
BEGIN:VEVENT
DTSTAMP:20260424T095116
VTIMEZONE:America/Chicago
DTSTART:20260519T000000Z
DTEND:20260519T020000Z
UID:1382743
SUMMARY:Graduation for Jenks High School Class of 2026
LOCATION:Mabee Center, 81st  Lewis
DESCRIPTION:Graduation for Jenks High School Class of 2026\n\n05/18/26 07:00 PM CST\n - 05/18/26 09:00 PM CST\Location:\nMabee Center\n81st  Lewis\n,
X-ALT-DESC;FMTTYPE=text/html:Graduation for Jenks High School Class of 2026<br /><br />05/18/26 07:00 PM CST - 05/18/26 09:00 PM CST<br />Location:<br />Mabee Center<br />81st  Lewis<br />,  
PRIORITY:3
TRANSP:TRANSPARENT
BEGIN:VALARM
TRIGGER:-PT5M
ACTION:DISPLAY
DESCRIPTION:Reminder
END:VALARM
END:VEVENT
END:VCALENDAR
