BEGIN:VCALENDAR
VERSION:2.0
CALSCALE:GREGORIAN
METHOD:PUBLISH
PRODID://JCOC//1382744
BEGIN:VEVENT
DTSTAMP:20260424T123238
VTIMEZONE:America/Chicago
DTSTART:20260222T000000Z
DTEND:20260222T040000Z
UID:1382744
SUMMARY:JPS Foundation Dinner & Auction
LOCATION:
DESCRIPTION:JPS Foundation Dinner & Auction\n\n02/21/26 06:00 PM CST\n - 02/21/26 10:00 PM CST\Description:\nThe JPSF Dinner and Auction not only serves as an important fundraising initiative for the Foundation, it also gives us the opportunity to recognize and thank the incredible donors who support the Foundation, our JPS students, and the Jenks community on an ongoing basis.\n\nWhether you’ve been to this event every year or you’re planning on attending for the first time, come prepared for an evening filled with energy, entertainment, fun, delicious food, live music, amazing auction items, and many memorable moments with friends—all while raising funds to support the educational programs at Jenks Public Schools.\n
X-ALT-DESC;FMTTYPE=text/html:JPS Foundation Dinner & Auction<br /><br />02/21/26 06:00 PM CST - 02/21/26 10:00 PM CST<br />Description:<br /><p>The JPSF Dinner and Auction not only serves as an important fundraising initiative&nbsp;for the Foundation, it also gives us the opportunity to recognize and thank the incredible donors who support the Foundation, our&nbsp;JPS&nbsp;students, and the Jenks community on an ongoing basis.</p>

<p>Whether&nbsp;you&rsquo;ve&nbsp;been to this event every year or you&rsquo;re planning on attending for the first time, come prepared for an evening filled with energy, entertainment, fun, delicious food, live music, amazing auction items, and many&nbsp;memorable moments&nbsp;with friends&mdash;all while raising funds to support the educational programs at Jenks Public Schools.</p>

PRIORITY:3
TRANSP:TRANSPARENT
BEGIN:VALARM
TRIGGER:-PT5M
ACTION:DISPLAY
DESCRIPTION:Reminder
END:VALARM
END:VEVENT
END:VCALENDAR
