BEGIN:VCALENDAR
VERSION:2.0
CALSCALE:GREGORIAN
METHOD:PUBLISH
PRODID://JCOC//1382745
BEGIN:VEVENT
DTSTAMP:20260424T150120
VTIMEZONE:America/Chicago
DTSTART:20251206T230000Z
DTEND:20251207T020000Z
UID:1382745
SUMMARY:Christmas on the Riverwalk 2025
LOCATION:Riverwalk , 300 Riverwalk Terrace, Jenks, OK
DESCRIPTION:Christmas on the Riverwalk 2025\n\n12/06/25 05:00 PM CST\n - 12/06/25 08:00 PM CST\Description:\nCome celebrate the Christmas season at the 3rd annual Christmas on the Riverwalk celebration, presented by Lee & Browne Consulting Engineers. The Saturday, Dec. 6 event is free to the community and will feature a Santa Claus photo booth, live Christmas music, great vendors for shopping and more from 5-8 p.m.\Location:\nRiverwalk \n300 Riverwalk Terrace\nJenks, OK
X-ALT-DESC;FMTTYPE=text/html:Christmas on the Riverwalk 2025<br /><br />12/06/25 05:00 PM CST - 12/06/25 08:00 PM CST<br />Description:<br />Come celebrate the Christmas season at the 3rd annual Christmas on the Riverwalk celebration, presented by Lee &amp; Browne Consulting Engineers. The Saturday, Dec. 6 event is free to the community and will feature a Santa Claus photo booth, live Christmas music, great vendors for shopping and more from 5-8 p.m.<br />Location:<br />Riverwalk <br />300 Riverwalk Terrace<br />Jenks, OK 
PRIORITY:3
TRANSP:TRANSPARENT
BEGIN:VALARM
TRIGGER:-PT5M
ACTION:DISPLAY
DESCRIPTION:Reminder
END:VALARM
END:VEVENT
END:VCALENDAR
