BEGIN:VCALENDAR
VERSION:2.0
CALSCALE:GREGORIAN
METHOD:PUBLISH
PRODID://JCOC//1382746
BEGIN:VEVENT
DTSTAMP:20260424T150119
VTIMEZONE:America/Chicago
DTSTART:20251007T230000Z
DTEND:20251008T010000Z
UID:1382746
SUMMARY:Sensory Nights
LOCATION:Oklahoma Aquarium, 300 Aquarium Dr, Jenks, OK, 74037
DESCRIPTION:Sensory Nights\n\n10/07/25 06:00 PM CST\n - 10/07/25 08:00 PM CST\Description:\nJoin us at the Oklahoma Aquarium for Sensory Awareness Evenings on the 1st Tuesday of each month. With low lights & quiet music, you & your little & big humans alike can explore the Oklahoma Aquarium without the usual crowd-perfect for people that get peopled out easily! Each month has a self-guided scavenger hunt with a prize for everyone that completes it! This event is free with general admission or Oklahoma Aquarium membership.\Location:\nOklahoma Aquarium\n300 Aquarium Dr\nJenks, OK 74037
X-ALT-DESC;FMTTYPE=text/html:Sensory Nights<br /><br />10/07/25 06:00 PM CST - 10/07/25 08:00 PM CST<br />Description:<br />Join us at the Oklahoma Aquarium for Sensory Awareness Evenings on the 1st Tuesday of each month. With low lights &amp; quiet music, you &amp; your little &amp; big humans alike can explore the Oklahoma Aquarium without the usual crowd-perfect for people that get peopled out easily! Each month has a self-guided scavenger hunt with a prize for everyone that completes it! This event is free with general admission or Oklahoma Aquarium membership.<br />Location:<br />Oklahoma Aquarium<br />300 Aquarium Dr<br />Jenks, OK 74037
PRIORITY:3
TRANSP:TRANSPARENT
BEGIN:VALARM
TRIGGER:-PT5M
ACTION:DISPLAY
DESCRIPTION:Reminder
END:VALARM
END:VEVENT
END:VCALENDAR
