BEGIN:VCALENDAR
VERSION:2.0
CALSCALE:GREGORIAN
METHOD:PUBLISH
PRODID://OCON//1382876
BEGIN:VEVENT
DTSTAMP:20260424T153925
VTIMEZONE:America/New_York
DTSTART:20251112T220000Z
DTEND:20251112T230000Z
UID:1382876
SUMMARY:Women in Business Quarterly Hangout | Yoga with Horses
LOCATION:Oconee Theraputic Riding, 1391 Jerusalem Road, Watkinsville, GA, 30677
DESCRIPTION:Women in Business Quarterly Hangout | Yoga with Horses\n\n11/12/25 05:00 PM EST\n - 11/12/25 06:00 PM EST\Description:\nOur quarterly Women in Business Luncheons just isn't enough time together, so let's hangout between those events to bond!\n\nJoin us at Oconee Therapeutic Riding for yoga horses on Wednesday, November 12th from 5:00 p.m. - 6:00 p.m.\nThey will provide yoga mats if needed, but you are welcome to bring your own. \Location:\nOconee Theraputic Riding\n1391 Jerusalem Road\nWatkinsville, GA 30677
X-ALT-DESC;FMTTYPE=text/html:Women in Business Quarterly Hangout | Yoga with Horses<br /><br />11/12/25 05:00 PM EST - 11/12/25 06:00 PM EST<br />Description:<br />Our quarterly Women in Business Luncheons just isn't enough time together, so let's hangout between those events to bond!<br />
<br />
Join us at Oconee Therapeutic Riding for yoga horses on Wednesday, November 12th from 5:00 p.m. - 6:00 p.m.<br />
They will provide yoga mats if needed, but you are welcome to bring your own.&nbsp;<br />Location:<br />Oconee Theraputic Riding<br />1391 Jerusalem Road<br />Watkinsville, GA 30677
PRIORITY:3
TRANSP:TRANSPARENT
BEGIN:VALARM
TRIGGER:-PT5M
ACTION:DISPLAY
DESCRIPTION:Reminder
END:VALARM
END:VEVENT
END:VCALENDAR
