BEGIN:VCALENDAR
VERSION:2.0
CALSCALE:GREGORIAN
METHOD:PUBLISH
PRODID://JCOC//1383290
BEGIN:VEVENT
DTSTAMP:20260424T160314
VTIMEZONE:America/Chicago
DTSTART:20251122T190000Z
DTEND:20251123T010000Z
UID:1383290
SUMMARY:2025 Native Christmas Market
LOCATION:Jenks Riverwalk, 300 Riverwalk Terrace, Jenks, OK, 74037
DESCRIPTION:2025 Native Christmas Market\n\n11/22/25 01:00 PM CST\n - 11/22/25 07:00 PM CST\Description:\nThe Muscogee Nation will host its third annual Native Christmas Market event at the Jenks RiverWalk on Saturday, Nov. 22, from 1-7 p.m. The event is free and open to the public.\n\nWe invite you to come take a stroll on the RiverWalk and enjoy an opportunity to stock up on Christmas gifts for family and friends!\n\Details:\nGuests can enjoy programming on the amphitheater stage throughout the event. Local saxophone legend Grady Nichols will perform on the Amphitheater stage performing at the amphitheater stage from 5-7 p.m.\n\nOther fun features include the Riverwalk playground for kids, fondue samples and hot chocolate from The Melting Pot and a full entertainment schedule.\n\nA huge thank you to Lee & Browne Consulting Engineers, JRMR Consulting and Services, and CommunityCare for sponsoring this year's event!\n\nVendor application (Native only).\n\Location:\nJenks Riverwalk\n300 Riverwalk Terrace\nJenks, OK 74037
X-ALT-DESC;FMTTYPE=text/html:2025 Native Christmas Market<br /><br />11/22/25 01:00 PM CST - 11/22/25 07:00 PM CST<br />Description:<br /><p>The Muscogee Nation will host its third annual Native Christmas Market event at the Jenks RiverWalk on Saturday, Nov. 22, from 1-7 p.m. The event is free and open to the public.</p>

<p>We invite you to come take a stroll on the RiverWalk and enjoy an opportunity to stock up on Christmas gifts for family and friends!</p>
<br />Details:<br /><p>Guests can enjoy programming on the amphitheater stage throughout the event. Local saxophone legend Grady Nichols will perform on the Amphitheater stage performing at the amphitheater stage from 5-7 p.m.</p>

<p>Other fun features include the Riverwalk playground for kids, fondue samples and hot chocolate from The Melting Pot and a full entertainment schedule.</p>

<p>A huge thank you to <a href="https://leeandbrowne.com/">Lee &amp; Browne Consulting Engineers</a>, <a href="https://www.jrmrconsulting.com/">JRMR Consulting and Services</a>, and <a href="https://www.ccok.com/">CommunityCare</a> for sponsoring this year's event!</p>

<p><a href="https://drive.google.com/file/d/1JjuzCU9iB0SUhFCqdh6Atz5dcTpEBiVy">Vendor application (Native only).</a></p>
<br />Location:<br />Jenks Riverwalk<br />300 Riverwalk Terrace<br />Jenks, OK 74037
PRIORITY:3
TRANSP:TRANSPARENT
BEGIN:VALARM
TRIGGER:-PT5M
ACTION:DISPLAY
DESCRIPTION:Reminder
END:VALARM
END:VEVENT
END:VCALENDAR
