BEGIN:VCALENDAR
VERSION:2.0
CALSCALE:GREGORIAN
METHOD:PUBLISH
PRODID://KING//1383451
BEGIN:VEVENT
DTSTAMP:20260422T065728
VTIMEZONE:America/Denver
DTSTART:20251028T210000Z
DTEND:20251028T230000Z
UID:1383451
SUMMARY:Chamber Members Happy Hour w/Concord General Contracting
LOCATION:Grand Canyon Brewing, 312 E. Beale Street , Kingman, AZ, 86401
DESCRIPTION:Chamber Members Happy Hour w/Concord General Contracting\n\n10/28/25 03:00 PM MST\n - 10/28/25 05:00 PM MST\Description:\nYou’re Invited! Kingman Chamber Happy Hour – October 28\n\nOn behalf of Concord General Contracting, I’m excited to invite you to a special happy hour we’re hosting exclusively for Kingman Chamber members! This will be a great opportunity to relax, connect, and enjoy some casual networking with fellow business professionals in our community.\n\nDate: Tuesday, October 28\nTime: 3:00- 5:00pm\nLocation: The Grand Canyon Brewing + Distillery\nAddress: 312 E Beale St., Kingman, AZ 86401\nJoin us for good conversation, great company, and complimentary drinks and appetizers as we celebrate the strong partnerships that make Kingman thrive.\nPlease let Jennifer Onley if you can make it! \n\nEmail: jonley@concordinc.com\nPhone: 847-942-2890\n \n\n	\n	\n\n\Details:\nDate: Tuesday, October 28\nTime: 3:00- 5:00pm\nLocation: The Grand Canyon Brewing + Distillery\nAddress: 312 E Beale St., Kingman, AZ 86401\nJoin us for good conversation, great company, and complimentary drinks and appetizers as we celebrate the strong partnerships that make Kingman thrive.\Location:\nGrand Canyon Brewing\n312 E. Beale Street \nKingman, AZ 86401
X-ALT-DESC;FMTTYPE=text/html:Chamber Members Happy Hour w/Concord General Contracting<br /><br />10/28/25 03:00 PM MST - 10/28/25 05:00 PM MST<br />Description:<br />You&rsquo;re Invited! Kingman Chamber Happy Hour &ndash; October 28<br />
<br />
On behalf of Concord General Contracting, I&rsquo;m excited to invite you to a special happy hour&nbsp;we&rsquo;re hosting exclusively for Kingman Chamber members! This will be a great opportunity to relax, connect, and enjoy some casual networking with fellow business professionals in our community.<br />
<br />
<strong>Date:&nbsp;</strong>Tuesday, October 28<br />
<strong>Time:&nbsp;</strong>3:00- 5:00pm<br />
<strong>Location:&nbsp;</strong>The Grand Canyon Brewing + Distillery<br />
<strong>Address:&nbsp;</strong>312 E Beale St., Kingman, AZ 86401<br />
Join us for good conversation, great company, and complimentary drinks and appetizers&nbsp;as we celebrate the strong partnerships that make Kingman thrive.<br />
Please let Jennifer Onley if you can make it!&nbsp;<br />
<br />
Email: jonley@concordinc.com<br />
Phone: 847-942-2890<br />
&nbsp;
<table border="0" dir="ltr" min-scale="0.672182006204757">
	<tbody>
	</tbody>
</table>
<br />Details:<br /><strong>Date:&nbsp;</strong>Tuesday, October 28<br />
<strong>Time:&nbsp;</strong>3:00- 5:00pm<br />
<strong>Location:&nbsp;</strong>The Grand Canyon Brewing + Distillery<br />
<strong>Address:&nbsp;</strong>312 E Beale St., Kingman, AZ 86401<br />
Join us for good conversation, great company, and complimentary drinks and appetizers&nbsp;as we celebrate the strong partnerships that make Kingman thrive.<br />Location:<br />Grand Canyon Brewing<br />312 E. Beale Street <br />Kingman, AZ 86401
PRIORITY:3
TRANSP:TRANSPARENT
BEGIN:VALARM
TRIGGER:-PT5M
ACTION:DISPLAY
DESCRIPTION:Reminder
END:VALARM
END:VEVENT
END:VCALENDAR
