BEGIN:VCALENDAR
VERSION:2.0
CALSCALE:GREGORIAN
METHOD:PUBLISH
PRODID://KING//1383515
BEGIN:VEVENT
DTSTAMP:20260422T065727
VTIMEZONE:America/Denver
DTSTART:20251022T150000Z
DTEND:20251022T210000Z
UID:1383515
SUMMARY:Mohave County Contiuum of Care Fresh Start Hiring & Resource Event
LOCATION:Metcalfe Park, 315 E. Beale Street, Kingman, AZ, 86401
DESCRIPTION:Mohave County Contiuum of Care Fresh Start Hiring & Resource Event\n\n10/22/25 09:00 AM MST\n - 10/22/25 03:00 PM MST\Description:\nFresh Start Resource and Hiring Event in Kingman, Arizona, on October 22, 2025, from 9 a.m. to 3\n\np.m.\n\nThe Fresh Start Event is designed to connect individuals and families experiencing homelessness or those at risk\n\nwith vital resources, supportive services, and pathways to employment. By bringing together service providers,\n\nemployers, and community members, this event offers immediate relief, renewed hope, and long-term\n\nopportunities for stability.\n\Location:\nMetcalfe Park\n315 E. Beale Street\nKingman, AZ 86401
X-ALT-DESC;FMTTYPE=text/html:Mohave County Contiuum of Care Fresh Start Hiring & Resource Event<br /><br />10/22/25 09:00 AM MST - 10/22/25 03:00 PM MST<br />Description:<br /><p>Fresh Start Resource and Hiring Event in Kingman, Arizona, on October 22, 2025, from 9 a.m. to 3</p>

<p>p.m.</p>

<p>The Fresh Start Event is designed to connect individuals and families experiencing homelessness or those at risk</p>

<p>with vital resources, supportive services, and pathways to employment. By bringing together service providers,</p>

<p>employers, and community members, this event offers immediate relief, renewed hope, and long-term</p>

<p>opportunities for stability.</p>
<br />Location:<br />Metcalfe Park<br />315 E. Beale Street<br />Kingman, AZ 86401
PRIORITY:3
TRANSP:TRANSPARENT
BEGIN:VALARM
TRIGGER:-PT5M
ACTION:DISPLAY
DESCRIPTION:Reminder
END:VALARM
END:VEVENT
END:VCALENDAR
