BEGIN:VCALENDAR
VERSION:2.0
CALSCALE:GREGORIAN
METHOD:PUBLISH
PRODID://JCOC//1383615
BEGIN:VEVENT
DTSTAMP:20260424T160324
VTIMEZONE:America/Chicago
DTSTART:20251114T000000Z
DTEND:20251114T030000Z
UID:1383615
SUMMARY:Charcuterie Made Simple
LOCATION:Bridges Mercantile, 108 E Main St, Jenks, OK, 74037
DESCRIPTION:Charcuterie Made Simple\n\n11/13/25 06:00 PM CST\n - 11/13/25 09:00 PM CST\Description:\nJoin us for a beginner-friendly class where you’ll learn the art of building a beautiful and delicious charcuterie board hosted by Chef Dee and Chef Bay. Each guest will craft their own beautifully curated board featuring a trio of cheeses, an array of fresh and dried fruits, and a selection of artisan crackers, including gluten-free options. All tools and materials are provided, along with a printed layout guide and a pairing sheet to inspire your design during the class and beyond.\nEvent classes at The Bridges Mercantile are more than just fun and creative experiences—they’re a fundraiser that directly supports Bridges, a nonprofit organization dedicated to providing employment opportunities for individuals facing barriers to work. Every class helps fund training, job placement, and community-based programs that empower people to achieve greater independence and success. By participating, you’re not only learning something new—you’re helping make a meaningful impact in the lives of others.\n \Details:\nDetails:\n\nNovember 13th 2025\n\n6 PM\n\nBridges Mercantile\n\n108 E Main St., Jenks, OK.\n\nClass Fee: $70.00\n\Location:\nBridges Mercantile\n108 E Main St\nJenks, OK 74037
X-ALT-DESC;FMTTYPE=text/html:Charcuterie Made Simple<br /><br />11/13/25 06:00 PM CST - 11/13/25 09:00 PM CST<br />Description:<br />Join us for a beginner-friendly class where you&rsquo;ll learn the art of building a beautiful and delicious charcuterie board hosted by Chef Dee and Chef Bay. Each guest will craft their own beautifully curated board featuring a trio of cheeses, an array of fresh and dried fruits, and a selection of artisan crackers, including gluten-free options. All tools and materials are provided, along with a printed layout guide and a pairing sheet to inspire your design during the class and beyond.<br />
Event classes at The Bridges Mercantile are more than just fun and creative experiences&mdash;they&rsquo;re a fundraiser that directly supports Bridges, a nonprofit organization dedicated to providing employment opportunities for individuals facing barriers to work. Every class helps fund training, job placement, and community-based programs that empower people to achieve greater independence and success. By participating, you&rsquo;re not only learning something new&mdash;you&rsquo;re helping make a meaningful impact in the lives of others.<br />
&nbsp;<br />Details:<br /><p>Details:</p>

<p>November 13th 2025</p>

<p>6 PM</p>

<p>Bridges Mercantile</p>

<p>108 E Main St., Jenks, OK.</p>

<p>Class Fee: $70.00</p>
<br />Location:<br />Bridges Mercantile<br />108 E Main St<br />Jenks, OK 74037
PRIORITY:3
TRANSP:TRANSPARENT
BEGIN:VALARM
TRIGGER:-PT5M
ACTION:DISPLAY
DESCRIPTION:Reminder
END:VALARM
END:VEVENT
END:VCALENDAR
