BEGIN:VCALENDAR
VERSION:2.0
CALSCALE:GREGORIAN
METHOD:PUBLISH
PRODID://JCOC//1383617
BEGIN:VEVENT
DTSTAMP:20260424T150057
VTIMEZONE:America/Chicago
DTSTART:20251212T000000Z
DTEND:20251212T030000Z
UID:1383617
SUMMARY:Christmas Cookie Masterclass
LOCATION:Bridges Mercantile, 732 E 116th St. Jenks, Jenks, OK, 74037
DESCRIPTION:Christmas Cookie Masterclass\n\n12/11/25 06:00 PM CST\n - 12/11/25 09:00 PM CST\Description:\nJoin us for a festive baking experience with master baker Will Spoon!\n\nLearn step by step how to make the perfect Christmas cookies as Will shares six of his favorite holiday recipes. Together, we’ll mix, roll, and bake from scratch while discovering Will’s best-kept baking secrets. Each guest will leave with a beautifully arranged tray of three dozen cookies—featuring all six delicious flavors—to enjoy at home or share with loved ones.\n\Details:\n\n	https://bridgestulsa.ejoinme.org/cookies\n\n\Location:\nBridges Mercantile\n732 E 116th St. Jenks\nJenks, OK 74037
X-ALT-DESC;FMTTYPE=text/html:Christmas Cookie Masterclass<br /><br />12/11/25 06:00 PM CST - 12/11/25 09:00 PM CST<br />Description:<br /><p style="text-align: center;"><span style="font-size:16px">Join us for a festive baking experience with master baker Will Spoon!</span></p>

<p style="text-align: center;"><span style="font-size:16px">Learn step by step how to make the perfect Christmas cookies as Will shares six of his favorite holiday recipes. Together, we&rsquo;ll mix, roll, and bake from scratch while discovering Will&rsquo;s best-kept baking secrets. Each guest will leave with a beautifully arranged tray of three dozen cookies&mdash;featuring all six delicious flavors&mdash;to enjoy at home or share with loved ones.</span></p>
<br />Details:<br /><ul id="B_C_C_EV_ctl00_F_FriendlyUrl_uxExisitingFriendlyUrls">
	<li>https://bridgestulsa.ejoinme.org/cookies</li>
</ul>
<br />Location:<br />Bridges Mercantile<br />732 E 116th St. Jenks<br />Jenks, OK 74037
PRIORITY:3
TRANSP:TRANSPARENT
BEGIN:VALARM
TRIGGER:-PT5M
ACTION:DISPLAY
DESCRIPTION:Reminder
END:VALARM
END:VEVENT
END:VCALENDAR
