BEGIN:VCALENDAR
VERSION:2.0
CALSCALE:GREGORIAN
METHOD:PUBLISH
PRODID://MESQ//1384204
BEGIN:VEVENT
DTSTAMP:20260420T040313
VTIMEZONE:America/Los_Angeles
DTSTART:20251101T020000Z
DTEND:20251101T050000Z
UID:1384204
SUMMARY:Freeek-reeka Halloween Party
LOCATION:Eureka Casino Resort VIP Parking Lot, 275 Mesa Blvd, Mesquite, NV, 89027
DESCRIPTION:Freeek-reeka Halloween Party\n\n10/31/25 07:00 PM PST\n - 10/31/25 10:00 PM PST\Description:\nAge 21+ Only - Live Music with DJ Fuego - Food Trucks - Haunted Houses - Cash Prizes for Best Costumes (Couple, Scariest, Funniest)\nCome show off your costume at our FREE Community Event sponsored by Eureka!\Details:\nAge 21+ Only - Live Music with DJ Fuego - Food Trucks - Haunted Houses - Cash Prizes for Best Costumes (Couple, Scariest, Funniest)\nCome show off your costume at our FREE Community Event sponsored by Eureka!\Location:\nEureka Casino Resort VIP Parking Lot\n275 Mesa Blvd\nMesquite, NV 89027
X-ALT-DESC;FMTTYPE=text/html:Freeek-reeka Halloween Party<br /><br />10/31/25 07:00 PM PST - 10/31/25 10:00 PM PST<br />Description:<br />Age 21+ Only - Live Music with DJ Fuego - Food Trucks - Haunted Houses - Cash Prizes for Best Costumes (Couple, Scariest, Funniest)<br />
Come show off your costume at our FREE Community Event sponsored by Eureka!<br />Details:<br />Age 21+ Only - Live Music with DJ Fuego - Food Trucks - Haunted Houses - Cash Prizes for Best Costumes (Couple, Scariest, Funniest)<br />
Come show off your costume at our FREE Community Event sponsored by Eureka!<br />Location:<br />Eureka Casino Resort VIP Parking Lot<br />275 Mesa Blvd<br />Mesquite, NV 89027
PRIORITY:3
TRANSP:TRANSPARENT
BEGIN:VALARM
TRIGGER:-PT5M
ACTION:DISPLAY
DESCRIPTION:Reminder
END:VALARM
END:VEVENT
END:VCALENDAR
