BEGIN:VCALENDAR
VERSION:2.0
CALSCALE:GREGORIAN
METHOD:PUBLISH
PRODID://MESQ//1384205
BEGIN:VEVENT
DTSTAMP:20260420T040313
VTIMEZONE:America/Los_Angeles
DTSTART:20251031T010000Z
DTEND:20251031T040000Z
UID:1384205
SUMMARY:Shreeek-reeka
LOCATION:Eureka Casino Resort VIP Parking Lot, 275 Mesa Blvd, MESQUITE, NV, 89027
DESCRIPTION:Shreeek-reeka\n\n10/30/25 06:00 PM PST\n - 10/30/25 09:00 PM PST\Description:\nHaunted Houses- Trick or Treat Stations- Carnival Games- Kids of all ages Welcome- \nCome show off your costume at our FREE Community Event sponsored by Eureka Community Initiative and other Local Organizations.\Details:\nHaunted Houses- Trick or Treat Stations- Carnival Games- Kids of all ages Welcome- \nCome show off your costume at our FREE Community Event sponsored by Eureka Community Initiative and other Local Organizations.\Location:\nEureka Casino Resort VIP Parking Lot\n275 Mesa Blvd\nMESQUITE, NV 89027
X-ALT-DESC;FMTTYPE=text/html:Shreeek-reeka<br /><br />10/30/25 06:00 PM PST - 10/30/25 09:00 PM PST<br />Description:<br />Haunted Houses- Trick or Treat Stations- Carnival Games- Kids of all ages Welcome-&nbsp;<br />
Come show off your costume at our FREE Community Event sponsored by Eureka Community Initiative and other Local Organizations.<br />Details:<br />Haunted Houses- Trick or Treat Stations- Carnival Games- Kids of all ages Welcome-&nbsp;<br />
Come show off your costume at our FREE Community Event sponsored by Eureka Community Initiative and other Local Organizations.<br />Location:<br />Eureka Casino Resort VIP Parking Lot<br />275 Mesa Blvd<br />MESQUITE, NV 89027
PRIORITY:3
TRANSP:TRANSPARENT
BEGIN:VALARM
TRIGGER:-PT5M
ACTION:DISPLAY
DESCRIPTION:Reminder
END:VALARM
END:VEVENT
END:VCALENDAR
