BEGIN:VCALENDAR
VERSION:2.0
CALSCALE:GREGORIAN
METHOD:PUBLISH
PRODID://PLYC//1384251
BEGIN:VEVENT
DTSTAMP:20260424T123215
VTIMEZONE:America/New_York
DTSTART:20251218T230000Z
DTEND:20251219T010000Z
UID:1384251
SUMMARY:Charcuterie Class @ Gather
LOCATION:Gather by Gather 2 Graze, 203 North Michigan Street, Plymouth, IN, 46563
DESCRIPTION:Charcuterie Class @ Gather\n\n12/18/25 06:00 PM EST\n - 12/18/25 08:00 PM EST\Description:\n\n \Details:\nWe have had so many requests, so here it is! We are going to offer Charcuterie Class!!!! Bring a friend or your spouse, come early for dinner at Gather and then join us for some fun information about cheese, taste gourmet cheeses and charcuterie meats, learn how to style a board and pair cheese for your own gathering. You will leave with a grazing board you build at the event.\n\nWe are limiting class size to 12, so get your space reserved now! Ticket price is $50 and includes the class and materials, a gift certificate for a future purchase and discounts on purchases the night of the class!\n\nTo reserve your space for either October or November, please call 574-540-2139 to purchase your ticket, or stop in at Gather during business hours! We can't wait to share this experience with you!\Location:\nGather by Gather 2 Graze\n203 North Michigan Street\nPlymouth, IN 46563
X-ALT-DESC;FMTTYPE=text/html:Charcuterie Class @ Gather<br /><br />12/18/25 06:00 PM EST - 12/18/25 08:00 PM EST<br />Description:<br /><br />
&nbsp;<br />Details:<br />We have had so many requests, so here it is! We are going to offer Charcuterie Class!!!! Bring a friend or your spouse, come early for dinner at Gather and then join us for some fun information about cheese, taste gourmet cheeses and charcuterie meats, learn how to style a board and pair cheese for your own gathering. You will leave with a grazing board you build at the event.<br />
<br />
We are limiting class size to 12, so get your space reserved now! Ticket price is $50 and includes the class and materials, a gift certificate for a future purchase and discounts on purchases the night of the class!<br />
<br />
To reserve your space for either October or November, please call 574-540-2139 to purchase your ticket, or stop in at Gather during business hours! We can't wait to share this experience with you!<br />Location:<br />Gather by Gather 2 Graze<br />203 North Michigan Street<br />Plymouth, IN 46563
PRIORITY:3
TRANSP:TRANSPARENT
BEGIN:VALARM
TRIGGER:-PT5M
ACTION:DISPLAY
DESCRIPTION:Reminder
END:VALARM
END:VEVENT
END:VCALENDAR
