BEGIN:VCALENDAR
VERSION:2.0
CALSCALE:GREGORIAN
METHOD:PUBLISH
PRODID://OCON//1384755
BEGIN:VEVENT
DTSTAMP:20260424T154607
VTIMEZONE:America/New_York
DTSTART:20251107T190000Z
DTEND:20251107T200000Z
UID:1384755
SUMMARY:Ribbon Cutting | Apollo Behavior
LOCATION:Apollo Behavior, 1360 Caduceus Way, Watkinsville, GA, 30677
DESCRIPTION:Ribbon Cutting | Apollo Behavior\n\n11/07/25 02:00 PM EST\n - 11/07/25 03:00 PM EST\Location:\nApollo Behavior\n1360 Caduceus Way\nWatkinsville, GA 30677
X-ALT-DESC;FMTTYPE=text/html:Ribbon Cutting | Apollo Behavior<br /><br />11/07/25 02:00 PM EST - 11/07/25 03:00 PM EST<br />Location:<br />Apollo Behavior<br />1360 Caduceus Way<br />Watkinsville, GA 30677
PRIORITY:3
TRANSP:TRANSPARENT
BEGIN:VALARM
TRIGGER:-PT5M
ACTION:DISPLAY
DESCRIPTION:Reminder
END:VALARM
END:VEVENT
END:VCALENDAR
