BEGIN:VCALENDAR
VERSION:2.0
CALSCALE:GREGORIAN
METHOD:PUBLISH
PRODID://JCOC//1385945
BEGIN:VEVENT
DTSTAMP:20260424T160327
VTIMEZONE:America/Chicago
DTSTART:20251108T190000Z
DTEND:20251108T210000Z
UID:1385945
SUMMARY:Celebration of Indigenous Cultures: Mvskoke Etvlwv
LOCATION:Tulsa Premium Outlets, 801 E Outlet Dr, Jenks, OK, 74037
DESCRIPTION:Celebration of Indigenous Cultures: Mvskoke Etvlwv\n\n11/08/25 01:00 PM CST\n - 11/08/25 03:00 PM CST\Description:\nJoin us for a celebration of Native American heritage. This cultural celebration will include live music, small bites, make-and-take crafts and fun for the whole family!\Details:\nThis event is hosted in partnership with The Muscogee Nation and is a free event for all ages! \Location:\nTulsa Premium Outlets\n801 E Outlet Dr\nJenks, OK 74037
X-ALT-DESC;FMTTYPE=text/html:Celebration of Indigenous Cultures: Mvskoke Etvlwv<br /><br />11/08/25 01:00 PM CST - 11/08/25 03:00 PM CST<br />Description:<br />Join us for a celebration of Native American heritage. This cultural celebration will include live music, small bites, make-and-take crafts and fun for the whole family!<br />Details:<br />This event is hosted in partnership with The Muscogee Nation and is a free event for all ages!&nbsp;<br />Location:<br />Tulsa Premium Outlets<br />801 E Outlet Dr<br />Jenks, OK 74037
PRIORITY:3
TRANSP:TRANSPARENT
BEGIN:VALARM
TRIGGER:-PT5M
ACTION:DISPLAY
DESCRIPTION:Reminder
END:VALARM
END:VEVENT
END:VCALENDAR
