BEGIN:VCALENDAR
VERSION:2.0
CALSCALE:GREGORIAN
METHOD:PUBLISH
PRODID://OCON//1386008
BEGIN:VEVENT
DTSTAMP:20260424T143218
VTIMEZONE:America/New_York
DTSTART:20251210T160000Z
DTEND:20251210T190000Z
UID:1386008
SUMMARY:Women in Business Diamond Award Honoree Excellence Banquet
LOCATION:Oconee Civic Center, 2661 Hog Mountain Road, Watkinsville, GA, 30677
DESCRIPTION:Women in Business Diamond Award Honoree Excellence Banquet\n\n12/10/25 11:00 AM EST\n - 12/10/25 02:00 PM EST\Description:\nSpeaker, Program & Pop-up Shops\n\nVenue: Oconee Civic Center\nSpeaker: Terri Britt, Former Miss USA, Author, Speaker, Coach, Healer\nPresenting Sponsor: Arch Legacy Firm\nClarity Sponsors: Piedmont Athens Regional, Lugo Plastic Surgery\nColor Sponsors: Oconee State Bank\nCut Sponsors: Classic City Bank, Northeast Georgia Medical Center Barrow, Lake Oconee Medspa\n \n11:00 a.m. - Pop Up Shopping\n\n12:00 p.m. - Lunch\n\n12:45 p.m. - Program Begins\n\n1:30 p.m. - Shopping\n \nDiamond Award... Is a nominated award given to a woman that is consistently active not only professionally, but also personally.Someone that is a key individual in the community and always making a difference. \Location:\nOconee Civic Center\n2661 Hog Mountain Road\nWatkinsville, GA 30677
X-ALT-DESC;FMTTYPE=text/html:Women in Business Diamond Award Honoree Excellence Banquet<br /><br />12/10/25 11:00 AM EST - 12/10/25 02:00 PM EST<br />Description:<br /><span style="font-family:georgia,serif"><span style="font-size:20px"><em>Speaker, Program&nbsp;&amp;&nbsp;Pop-up Shops</em></span></span><br />
<br />
Venue: Oconee Civic Center<br />
Speaker: Terri Britt, Former Miss USA, Author, Speaker, Coach, Healer<br />
Presenting Sponsor: Arch Legacy Firm<br />
Clarity Sponsors: Piedmont Athens Regional, Lugo Plastic Surgery<br />
Color Sponsors: Oconee State Bank<br />
Cut Sponsors: Classic City Bank,&nbsp;Northeast Georgia Medical Center Barrow, Lake Oconee Medspa<br />
&nbsp;
<p><strong>11:00 a.m.</strong> - Pop Up Shopping</p>

<p><strong>12:00 p.m.</strong> - Lunch</p>

<p><strong>12:45 p.m</strong>. - Program Begins</p>

<p><strong>1:30 p.m.</strong> - Shopping<br />
&nbsp;</p>
<span style="font-size:18px"><span style="font-family:georgia,serif"><em>Diamond Award...</em></span></span><span style="font-family:arial,helvetica,sans-serif"><span style="font-size:10px"><em><strong> </strong></em></span><span style="font-size:12px">Is a nominated award given to a woman that is&nbsp;consistently active&nbsp;not only professionally, but also personally.Someone that is a key individual in the community and always making a difference.&nbsp;</span></span><br />Location:<br />Oconee Civic Center<br />2661 Hog Mountain Road<br />Watkinsville, GA 30677
PRIORITY:3
TRANSP:TRANSPARENT
BEGIN:VALARM
TRIGGER:-PT5M
ACTION:DISPLAY
DESCRIPTION:Reminder
END:VALARM
END:VEVENT
END:VCALENDAR
