BEGIN:VCALENDAR
VERSION:2.0
CALSCALE:GREGORIAN
METHOD:PUBLISH
PRODID://JCOC//1386065
BEGIN:VEVENT
DTSTAMP:20260424T160315
VTIMEZONE:America/Chicago
DTSTART:20251106T173000Z
DTEND:20251106T190000Z
UID:1386065
SUMMARY:Women in Business Luncheon
LOCATION:The Ranch, 10596 Elm St, Jenks, OK, 74037
DESCRIPTION:Women in Business Luncheon\n\n11/06/25 11:30 AM CST\n - 11/06/25 01:00 PM CST\Description:\n\nJoin us for Women in Business: Market & Mingle on Thursday, November 6 at 11:30 a.m. at The Ranch!\n \nOur WIB luncheon celebrates women-owned small businesses and the power of connection. Guests will have the opportunity to “shop small” with women-owned vendors before and after the program, then enjoy an inspiring keynote from Charlotte Guest, host of The Empty Nest Guests Podcast. Charlotte will help us set a clear vision and mission for 2026—and how to put that vision into action both personally and professionally. With sunflowers as our theme, symbolizing positivity and growth, we’ll come together to turn toward the light in business and in life.\n\nSponsors: BancFirst, Oklahoma Aquarium and TulsaTech.\Location:\nThe Ranch\n10596 Elm St\nJenks, OK 74037
X-ALT-DESC;FMTTYPE=text/html:Women in Business Luncheon<br /><br />11/06/25 11:30 AM CST - 11/06/25 01:00 PM CST<br />Description:<br /><br />
<strong>Join&nbsp;us for&nbsp;Women&nbsp;in&nbsp;Business: Market &amp; Mingle on Thursday, November 6 at 11:30 a.m. at The Ranch!</strong><br />
&nbsp;<br />
Our WIB luncheon celebrates women-owned&nbsp;small businesses and the power of connection. Guests will have the opportunity to &ldquo;shop small&rdquo; with women-owned vendors before and after the program, then enjoy an inspiring keynote from Charlotte Guest, host of&nbsp;<em data-end="303" data-start="272">The Empty Nest Guests Podcast</em>. Charlotte will help us set a clear vision and mission for 2026&mdash;and how to put that vision into action both personally and professionally. With sunflowers as our theme, symbolizing positivity and growth, we&rsquo;ll come together to turn toward the light in business and in life.<br />
<br />
Sponsors: BancFirst, Oklahoma&nbsp;Aquarium and TulsaTech.<br />Location:<br />The Ranch<br />10596 Elm St<br />Jenks, OK 74037
PRIORITY:3
TRANSP:TRANSPARENT
BEGIN:VALARM
TRIGGER:-PT5M
ACTION:DISPLAY
DESCRIPTION:Reminder
END:VALARM
END:VEVENT
END:VCALENDAR
