BEGIN:VCALENDAR
VERSION:2.0
CALSCALE:GREGORIAN
METHOD:PUBLISH
PRODID://WEHO//1386302
BEGIN:VEVENT
DTSTAMP:20260424T152457
VTIMEZONE:America/Los_Angeles
DTSTART:20251030T200000Z
DTEND:20251030T210000Z
UID:1386302
SUMMARY:Special Events Committee
LOCATION:, CA
DESCRIPTION:Special Events Committee\n\n10/30/25 01:00 PM PST\n - 10/30/25 02:00 PM PST\Description:\nThe WHCC Special Events Commitee will meet weekly in the month of October in preparation for the Creative Business Awards. Please email aentz@wehochamber.com if you are interested in attending.\n\nThursdays, 1-2PM\nZoom
X-ALT-DESC;FMTTYPE=text/html:Special Events Committee<br /><br />10/30/25 01:00 PM PST - 10/30/25 02:00 PM PST<br />Description:<br />The WHCC Special Events Commitee will meet weekly in the month of October in preparation for the Creative Business Awards. Please email aentz@wehochamber.com if you are interested in attending.<br />
<br />
Thursdays, 1-2PM<br />
Zoom
PRIORITY:3
TRANSP:TRANSPARENT
BEGIN:VALARM
TRIGGER:-PT5M
ACTION:DISPLAY
DESCRIPTION:Reminder
END:VALARM
END:VEVENT
END:VCALENDAR
