BEGIN:VCALENDAR
VERSION:2.0
CALSCALE:GREGORIAN
METHOD:PUBLISH
PRODID://JCOC//1386308
BEGIN:VEVENT
DTSTAMP:20260424T160316
VTIMEZONE:America/Chicago
DTSTART:20251121T000000Z
DTEND:20251121T020000Z
UID:1386308
SUMMARY:Classic Pie Workshop - Bridges Mercantile
LOCATION:Bridges Mercantile, 108 E. Main Street, Jenks, OK, 74037
DESCRIPTION:Classic Pie Workshop - Bridges Mercantile\n\n11/20/25 06:00 PM CST\n - 11/20/25 08:00 PM CST\Description:\nJoin us for a Classic Pie Workshop with Will Spoon. \Location:\nBridges Mercantile\n108 E. Main Street\nJenks, OK 74037
X-ALT-DESC;FMTTYPE=text/html:Classic Pie Workshop - Bridges Mercantile<br /><br />11/20/25 06:00 PM CST - 11/20/25 08:00 PM CST<br />Description:<br />Join us for a Classic Pie Workshop with Will Spoon.&nbsp;<br />Location:<br />Bridges Mercantile<br />108 E. Main Street<br />Jenks, OK 74037
PRIORITY:3
TRANSP:TRANSPARENT
BEGIN:VALARM
TRIGGER:-PT5M
ACTION:DISPLAY
DESCRIPTION:Reminder
END:VALARM
END:VEVENT
END:VCALENDAR
