BEGIN:VCALENDAR
VERSION:2.0
CALSCALE:GREGORIAN
METHOD:PUBLISH
PRODID://JCOC//1386316
BEGIN:VEVENT
DTSTAMP:20260424T160351
VTIMEZONE:America/Chicago
DTSTART:20251110T170000Z
DTEND:20251110T180000Z
UID:1386316
SUMMARY:Ribbon Cutting: The Cabinet Ladies
LOCATION:, 8446 S Peoria Ave, Tulsa, OK, 74132
DESCRIPTION:Ribbon Cutting: The Cabinet Ladies\n\n11/10/25 11:00 AM CST\n - 11/10/25 12:00 PM CST\Description:\nJoin us as we celebrate the grand opening of The Cabinet Ladies in Jenks! Come network with fellow Chamber members, meet the team behind The Cabinet Ladies, and welcome them to the Jenks business community. Enjoy refreshments, photos, and a chance to learn more about their custom cabinetry and design services.\Location:\n\n8446 S Peoria Ave\nTulsa, OK 74132
X-ALT-DESC;FMTTYPE=text/html:Ribbon Cutting: The Cabinet Ladies<br /><br />11/10/25 11:00 AM CST - 11/10/25 12:00 PM CST<br />Description:<br />Join us as we celebrate the grand opening of The Cabinet Ladies in Jenks! Come network with fellow Chamber members, meet the team behind The Cabinet Ladies, and welcome them to the Jenks business community. Enjoy refreshments, photos, and a chance to learn more about their custom cabinetry and design services.<br />Location:<br /><br />8446 S Peoria Ave<br />Tulsa, OK 74132
PRIORITY:3
TRANSP:TRANSPARENT
BEGIN:VALARM
TRIGGER:-PT5M
ACTION:DISPLAY
DESCRIPTION:Reminder
END:VALARM
END:VEVENT
END:VCALENDAR
