BEGIN:VCALENDAR
VERSION:2.0
CALSCALE:GREGORIAN
METHOD:PUBLISH
PRODID://JCOC//1386317
BEGIN:VEVENT
DTSTAMP:20260424T160326
VTIMEZONE:America/Chicago
DTSTART:20251107T170000Z
DTEND:20251107T180000Z
UID:1386317
SUMMARY:Ribbon Cutting: Stella & Sloan by amy leigh 
LOCATION:Stella & Sloan by amy leigh , 110 East Main Street , Jenks , OK, 74037
DESCRIPTION:Ribbon Cutting: Stella & Sloan by amy leigh \n\n11/07/25 11:00 AM CST\n - 11/07/25 12:00 PM CST\Description:\nShop, socialize, and celebrate at our Stella & Sloan by amy leigh Ribbon Cutting. Get a sneak peak at our thoughtfully designed storefront on Jenks Main Street, featuring our curated collection of interior design and furnishings.  Join us the next day for our Grand Opening (Saturday Nov. 8 from 1p-7pm) for raffles, exclusive giveaways, and a celebration with heart; knowing a portion of all sales will go to the Tulsa Girls Home.\n \n\Details:\nJoin us as we celebrate the Grand Opening of Stella & Sloan, a new luxury interior design and furnishings storefront in the heart of Jenks!\n\n \n\nWe’re hosting a community courtyard event featuring a Ribbon Cutting Ceremony, live music, local food trucks, and exclusive raffles and giveaways throughout the day.\n\n \n\nGuests are invited to explore our beautiful new storefront, shop our curated collection of furnishings and decor, and then step out back into our courtyard to relax, socialize, and enjoy great food, drinks, and entertainment.\n\n \n\nThis will be a fun, family-friendly afternoon filled with celebration, creativity, and community spirit. We can’t wait to share this special day with our neighbors, friends, and fellow Jenks businesses!\n\Location:\nStella & Sloan by amy leigh \n110 East Main Street \nJenks , OK 74037
X-ALT-DESC;FMTTYPE=text/html:Ribbon Cutting: Stella & Sloan by amy leigh <br /><br />11/07/25 11:00 AM CST - 11/07/25 12:00 PM CST<br />Description:<br /><p>Shop, socialize, and celebrate at our Stella &amp; Sloan by amy leigh <strong>Ribbon Cutting</strong>. Get a sneak peak at our thoughtfully designed storefront on Jenks Main Street, featuring our curated collection of interior design and furnishings. &nbsp;Join us the next day for our Grand Opening (Saturday Nov. 8 from 1p-7pm) for raffles, exclusive giveaways, and a celebration with heart; knowing a portion of all sales will go to the Tulsa Girls Home.<br />
&nbsp;</p>
<br />Details:<br /><p>Join us as we celebrate the Grand Opening of Stella &amp; Sloan, a new luxury interior design and furnishings storefront&nbsp;in the heart of Jenks!</p>

<p>&nbsp;</p>

<p>We&rsquo;re hosting a community courtyard event featuring a Ribbon Cutting Ceremony, live music, local food trucks, and exclusive raffles and giveaways throughout the day.</p>

<p>&nbsp;</p>

<p>Guests are invited to explore our beautiful new storefront, shop our curated collection of furnishings and decor, and then step out back into our courtyard to relax, socialize, and enjoy great food, drinks, and entertainment.</p>

<p>&nbsp;</p>

<p>This will be a fun, family-friendly afternoon filled with celebration, creativity, and community spirit. We can&rsquo;t wait to share this special day with our neighbors, friends, and fellow Jenks businesses!</p>
<br />Location:<br />Stella & Sloan by amy leigh <br />110 East Main Street <br />Jenks , OK 74037
PRIORITY:3
TRANSP:TRANSPARENT
BEGIN:VALARM
TRIGGER:-PT5M
ACTION:DISPLAY
DESCRIPTION:Reminder
END:VALARM
END:VEVENT
END:VCALENDAR
