BEGIN:VCALENDAR
VERSION:2.0
CALSCALE:GREGORIAN
METHOD:PUBLISH
PRODID://JCOC//1386318
BEGIN:VEVENT
DTSTAMP:20260424T161027
VTIMEZONE:America/Chicago
DTSTART:20251113T180000Z
DTEND:20251113T190000Z
UID:1386318
SUMMARY:Ribbon Cutting: Andy B's
LOCATION:, 8711 S Lewis Ave, Tulsa, OK, 74137
DESCRIPTION:Ribbon Cutting: Andy B's\n\n11/13/25 12:00 PM CST\n - 11/13/25 01:00 PM CST\Description:\nJoin us for the ribbon cutting celebrating the grand re-opening of Andy B’s Tulsa on November 13 at 12:00 p.m.! Explore the newly renovated entertainment space featuring interactive bowling with upgraded lighting and sound, an expanded arcade and laser tag arena, escape rooms, enhanced event spaces, and an updated dining and drink experience. Come celebrate this exciting new chapter and see all the fun Andy B’s has to offer!\Location:\n\n8711 S Lewis Ave\nTulsa, OK 74137
X-ALT-DESC;FMTTYPE=text/html:Ribbon Cutting: Andy B's<br /><br />11/13/25 12:00 PM CST - 11/13/25 01:00 PM CST<br />Description:<br />Join us for the ribbon cutting celebrating the grand re-opening of Andy B&rsquo;s Tulsa on November 13 at 12:00 p.m.! Explore the newly renovated entertainment space featuring interactive bowling with upgraded lighting and sound, an expanded arcade and laser tag arena, escape rooms, enhanced event spaces, and an updated dining and drink experience. Come celebrate this exciting new chapter and see all the fun Andy B&rsquo;s has to offer!<br />Location:<br /><br />8711 S Lewis Ave<br />Tulsa, OK 74137
PRIORITY:3
TRANSP:TRANSPARENT
BEGIN:VALARM
TRIGGER:-PT5M
ACTION:DISPLAY
DESCRIPTION:Reminder
END:VALARM
END:VEVENT
END:VCALENDAR
