BEGIN:VCALENDAR
VERSION:2.0
CALSCALE:GREGORIAN
METHOD:PUBLISH
PRODID://JCOC//1386319
BEGIN:VEVENT
DTSTAMP:20260424T160314
VTIMEZONE:America/Chicago
DTSTART:20251113T223000Z
DTEND:20251113T233000Z
UID:1386319
SUMMARY:Ribbon Cutting: Tammie O'Neal Design
LOCATION:Jenks Chamber of Commerce Office, 161 Riverfront Drive; Suite 112, Jenks, OK, 74037
DESCRIPTION:Ribbon Cutting: Tammie O'Neal Design\n\n11/13/25 04:30 PM CST\n - 11/13/25 05:30 PM CST\Description:\nJoin us for a unique ribbon cutting experience--art gallery style--as we celebrate the incredible creativity of Jenks artist Tammie O’Neal, hosted at the Jenks Chamber of Commerce offices. Enjoy an inspiring showcase from Tammie O’Neal Design and connect with fellow art lovers and community members as we honor local talent and creativity.\Location:\nJenks Chamber of Commerce Office\n161 Riverfront Drive; Suite 112\nJenks, OK 74037
X-ALT-DESC;FMTTYPE=text/html:Ribbon Cutting: Tammie O'Neal Design<br /><br />11/13/25 04:30 PM CST - 11/13/25 05:30 PM CST<br />Description:<br />Join us for a unique ribbon cutting experience--art gallery style--as we celebrate the incredible creativity of Jenks artist Tammie O&rsquo;Neal, hosted at the Jenks Chamber of Commerce offices. Enjoy an inspiring showcase from Tammie O&rsquo;Neal Design and connect with fellow art lovers and community members as we honor local talent and creativity.<br />Location:<br />Jenks Chamber of Commerce Office<br />161 Riverfront Drive; Suite 112<br />Jenks, OK 74037
PRIORITY:3
TRANSP:TRANSPARENT
BEGIN:VALARM
TRIGGER:-PT5M
ACTION:DISPLAY
DESCRIPTION:Reminder
END:VALARM
END:VEVENT
END:VCALENDAR
