BEGIN:VCALENDAR
VERSION:2.0
CALSCALE:GREGORIAN
METHOD:PUBLISH
PRODID://JCOC//1386320
BEGIN:VEVENT
DTSTAMP:20260424T160240
VTIMEZONE:America/Chicago
DTSTART:20251114T170000Z
DTEND:20251114T180000Z
UID:1386320
SUMMARY:Ribbon Cutting: Strong Family Financial
LOCATION:, 1100 Riverwalk Terrace, Ste 220, Jenks, OK, 74037
DESCRIPTION:Ribbon Cutting: Strong Family Financial\n\n11/14/25 11:00 AM CST\n - 11/14/25 12:00 PM CST\Description:\n\nJoin the Jenks Chamber of Commerce for a ribbon cutting celebrating Strong Family Financial’s new offices in the Oklahoma First Building on Friday, November 14 at 11am. Strong Family Financial exists to provide financial security through trustworthy experts who create positive financial outcomes for generations, one family at a time. Come help us welcome their team to their new space, connect with fellow Chamber members, and show your support for a growing local business.\Location:\n\n1100 Riverwalk Terrace, Ste 220\nJenks, OK 74037
X-ALT-DESC;FMTTYPE=text/html:Ribbon Cutting: Strong Family Financial<br /><br />11/14/25 11:00 AM CST - 11/14/25 12:00 PM CST<br />Description:<br /><br />
Join the Jenks Chamber of Commerce for a ribbon cutting celebrating Strong Family Financial&rsquo;s new offices in the Oklahoma First Building on Friday, November 14 at 11am. Strong Family Financial exists to provide financial security through trustworthy experts who create positive financial outcomes for generations, one family at a time. Come help us welcome their team to their new space, connect with fellow Chamber members, and show your support for a growing local business.<br />Location:<br /><br />1100 Riverwalk Terrace, Ste 220<br />Jenks, OK 74037
PRIORITY:3
TRANSP:TRANSPARENT
BEGIN:VALARM
TRIGGER:-PT5M
ACTION:DISPLAY
DESCRIPTION:Reminder
END:VALARM
END:VEVENT
END:VCALENDAR
