BEGIN:VCALENDAR
VERSION:2.0
CALSCALE:GREGORIAN
METHOD:PUBLISH
PRODID://JCOC//1386326
BEGIN:VEVENT
DTSTAMP:20260424T150119
VTIMEZONE:America/Chicago
DTSTART:20251207T220000Z
DTEND:20251207T230000Z
UID:1386326
SUMMARY:Tuba Christmas
LOCATION:Tulsa Premium Outlets, 801 E Outlet Dr, Jenks, OK, 74037
DESCRIPTION:Tuba Christmas\n\n12/07/25 04:00 PM CST\n - 12/07/25 05:00 PM CST\Description:\nSunday, December 7th\n\n4-5PM\n\nCenter Court\n\nPlease join us on Sunday, December 7th from 4-5PM for a free performance by Tuba Christmas Tulsa! This ensemble of 150-200 tuba players have traveled far and wide to bring us the sounds of the season - and we are so excited to host them in Jenks for the first time! \n\Details:\nThis is a free event for all ages! \Location:\nTulsa Premium Outlets\n801 E Outlet Dr\nJenks, OK 74037
X-ALT-DESC;FMTTYPE=text/html:Tuba Christmas<br /><br />12/07/25 04:00 PM CST - 12/07/25 05:00 PM CST<br />Description:<br /><p>Sunday, December 7th</p>

<p>4-5PM</p>

<p>Center Court</p>

<p>Please join us on Sunday, December 7th from 4-5PM for a free performance by Tuba Christmas Tulsa! This ensemble of 150-200 tuba players have traveled far and wide to bring us the sounds of the season - and we are so excited to host them in Jenks for the first time!&nbsp;</p>
<br />Details:<br />This is a free event for all ages!&nbsp;<br />Location:<br />Tulsa Premium Outlets<br />801 E Outlet Dr<br />Jenks, OK 74037
PRIORITY:3
TRANSP:TRANSPARENT
BEGIN:VALARM
TRIGGER:-PT5M
ACTION:DISPLAY
DESCRIPTION:Reminder
END:VALARM
END:VEVENT
END:VCALENDAR
