BEGIN:VCALENDAR
VERSION:2.0
CALSCALE:GREGORIAN
METHOD:PUBLISH
PRODID://JCOC//1386327
BEGIN:VEVENT
DTSTAMP:20260424T160325
VTIMEZONE:America/Chicago
DTSTART:20251115T230000Z
DTEND:20251116T010000Z
UID:1386327
SUMMARY:Tree Lighting
LOCATION:Tulsa Premium Outlets, 801 E Outlet Dr, Jenks, OK, 74037
DESCRIPTION:Tree Lighting\n\n11/15/25 05:00 PM CST\n - 11/15/25 07:00 PM CST\Description:\nSaturday, November 15\n5-7PM\nCenter Court\nPlease join us for a holiday celebration, live music from Grady Nichols and the Trojanaires, and a special visit from Santa! Plus, the first 300 to check in will receive a free 2025 keepsake ornament! \Details:\nThis is a free event for all ages! \Location:\nTulsa Premium Outlets\n801 E Outlet Dr\nJenks, OK 74037
X-ALT-DESC;FMTTYPE=text/html:Tree Lighting<br /><br />11/15/25 05:00 PM CST - 11/15/25 07:00 PM CST<br />Description:<br />Saturday, November 15<br />
5-7PM<br />
Center Court<br />
Please join us for a holiday celebration, live music from Grady Nichols and the Trojanaires, and a special visit from Santa! Plus, the first 300 to check in will receive a free 2025 keepsake ornament!&nbsp;<br />Details:<br />This is a free event for all ages!&nbsp;<br />Location:<br />Tulsa Premium Outlets<br />801 E Outlet Dr<br />Jenks, OK 74037
PRIORITY:3
TRANSP:TRANSPARENT
BEGIN:VALARM
TRIGGER:-PT5M
ACTION:DISPLAY
DESCRIPTION:Reminder
END:VALARM
END:VEVENT
END:VCALENDAR
