BEGIN:VCALENDAR
VERSION:2.0
CALSCALE:GREGORIAN
METHOD:PUBLISH
PRODID://JCOC//1386330
BEGIN:VEVENT
DTSTAMP:20260424T174238
VTIMEZONE:America/Chicago
DTSTART:20251031T210000Z
DTEND:20251031T230000Z
UID:1386330
SUMMARY:Trick-or-Treat 
LOCATION:Riverwalk, 300 Riverwalk Terrace, Jenks, OK, 74037
DESCRIPTION:Trick-or-Treat \n\n10/31/25 04:00 PM CST\n - 10/31/25 06:00 PM CST\Description:\nThe Jenks Chamber of Commerce invites you to join us for a spooktacular evening at our annual Trick-or-Treat on Halloween, Friday, October 31, from 4 to 6 p.m. at the Jenks Riverwalk.\n\nThis year, we’re bringing the fun to the Riverwalk for an extra festive atmosphere. Local businesses and organizations will be set up along the walkways with creatively decorated tables and plenty of candy and goodies for trick-or-treaters.\n\nBring the whole family out in costume and enjoy a safe, fun, and free Halloween celebration in the heart of Jenks.\n \n\nPlease note: Vendors are welcome to hand out candy and promotional items, but selling items at the event is not permitted.\n\nThank you to our sponsors: Ace Westlake Hardware, TTCU Federal Credit Union, BancFirst, Tulsa ER & Hospital, Bricktown Brewery and Jenks Veterinary Hospital.\n\Location:\nRiverwalk\n300 Riverwalk Terrace\nJenks, OK 74037
X-ALT-DESC;FMTTYPE=text/html:Trick-or-Treat <br /><br />10/31/25 04:00 PM CST - 10/31/25 06:00 PM CST<br />Description:<br /><p>The Jenks Chamber of Commerce invites you to join us for a spooktacular evening at our annual Trick-or-Treat on Halloween, Friday, October 31, from 4 to 6 p.m. at the Jenks Riverwalk.</p>

<p>This year, we&rsquo;re bringing the fun to the Riverwalk for an extra festive atmosphere. Local businesses and organizations will be set up along the walkways with creatively decorated tables and plenty of candy and goodies for trick-or-treaters.</p>

<p>Bring the whole family out in costume and enjoy a safe, fun, and free Halloween celebration in the heart of Jenks.<br />
&nbsp;</p>

<p>Please note: Vendors are welcome to hand out candy and promotional items, but selling items at the event is not permitted.</p>

<p>Thank you to our sponsors: Ace Westlake Hardware, TTCU Federal Credit Union, BancFirst, Tulsa ER &amp; Hospital, Bricktown Brewery and Jenks Veterinary Hospital.</p>
<br />Location:<br />Riverwalk<br />300 Riverwalk Terrace<br />Jenks, OK 74037
PRIORITY:3
TRANSP:TRANSPARENT
BEGIN:VALARM
TRIGGER:-PT5M
ACTION:DISPLAY
DESCRIPTION:Reminder
END:VALARM
END:VEVENT
END:VCALENDAR
