BEGIN:VCALENDAR
VERSION:2.0
CALSCALE:GREGORIAN
METHOD:PUBLISH
PRODID://KING//1386331
BEGIN:VEVENT
DTSTAMP:20260422T053746
VTIMEZONE:America/Denver
DTSTART:20251106T143000Z
DTEND:20251106T160000Z
UID:1386331
SUMMARY:Business and Government - NALOXONE
LOCATION:MCC Building, 309 E. Beale St., Kingman, AZ, 86401
DESCRIPTION:Business and Government - NALOXONE\n\n11/06/25 07:30 AM MST\n - 11/06/25 09:00 AM MST\Description:\nBusiness and Government Meeting: Understanding Naloxone (Narcan)\nJoin the Kingman Area Chamber of Commerce for our monthly Business and Government Meeting. This month’s topic focuses on Naloxone (Narcan)—a life-saving medication that can reverse opioid overdoses. Guest speakers Randy Moffitt from HIDTA and Bob DeVries from MSTEPP Arizona will share insights on the importance of community awareness, availability, and proper use of Naloxone.\n\nStay informed, connect with local leaders, and take part in an important discussion impacting public health and safety in our community.\n\nðŸ“ Location: 309 E. Beale Street\nðŸ—“ï¸: Date: Thursday, November 6th \nâ°: Time: 7:30 AM\nâ˜• Coffee will be available at the event.\n\n\n\nBusiness & Government Meeting: Connecting Our Community\nStay engaged with the latest developments shaping our community!\n \nThis meeting offers a valuable platform to connect with local leaders, stay informed on key issues, and engage in meaningful discussions on topics that impact Chamber members and the broader business community.\n \nEach month features a guest speaker offering insights into business, government, and community affairs.\n \nJoin us to stay connected, informed, and engaged in the future of our community!\n \nMeeting Details:\nWhen: Thursday, November 6th \nTime: 7:30 AM\nWhere: MCC Beale St. Center – 309 E. Beale St. or via Zoom\n \nThis meeting is open to the public.\n \nRegistration is required for Zoom access. The Zoom login credentials will be provided in a confirmation email.\Location:\nMCC Building\n309 E. Beale St.\nKingman, AZ 86401
X-ALT-DESC;FMTTYPE=text/html:Business and Government - NALOXONE<br /><br />11/06/25 07:30 AM MST - 11/06/25 09:00 AM MST<br />Description:<br /><p data-end="541" data-start="72"><strong data-end="140" data-start="72">Business and Government Meeting: Understanding Naloxone (Narcan)</strong><br data-end="143" data-start="140" />
Join the Kingman Area Chamber of Commerce for our monthly Business and Government Meeting. This month&rsquo;s topic focuses on&nbsp;<em data-end="283" data-start="264">Naloxone (Narcan)</em>&mdash;a life-saving medication that can reverse opioid overdoses. Guest speakers&nbsp;<strong data-end="376" data-start="359">Randy Moffitt</strong>&nbsp;from&nbsp;<strong data-end="391" data-start="382">HIDTA</strong>&nbsp;and&nbsp;<strong data-end="411" data-start="396">Bob DeVries</strong>&nbsp;from&nbsp;<strong data-end="435" data-is-only-node="" data-start="417">MSTEPP Arizona</strong>&nbsp;will share insights on the importance of community awareness, availability, and proper use of Naloxone.</p>

<p data-end="681" data-start="543">Stay informed, connect with local leaders, and take part in an important discussion impacting public health and safety in our community.</p>

<p data-end="768" data-start="683">ðŸ“&nbsp;<strong data-end="699" data-start="686">Location:</strong>&nbsp;309 E. Beale Street<br />
ðŸ—“ï¸: <strong>Date</strong>: Thursday, November 6th&nbsp;<br />
â°: <strong>Time</strong>: 7:30 AM<br data-end="722" data-start="719" />
â˜•&nbsp;<strong data-end="766" data-start="724">Coffee will be available at the event.</strong></p>
<br />
<br />
<br />
<strong>Business &amp; Government Meeting: Connecting Our Community</strong><br />
Stay engaged with the latest developments shaping our community!<br />
&nbsp;<br />
This meeting offers a valuable platform to connect with local leaders, stay informed on key issues, and engage in meaningful discussions on topics that impact Chamber members and the broader business community.<br />
&nbsp;<br />
Each month features a guest speaker offering insights into business, government, and community affairs.<br />
&nbsp;<br />
Join us to stay connected, informed, and engaged in the future of our community!<br />
&nbsp;<br />
<strong>Meeting Details:</strong><br />
When: Thursday, November 6th&nbsp;<br />
Time: 7:30 AM<br />
Where: MCC Beale St. Center &ndash; 309 E. Beale St. or via Zoom<br />
&nbsp;<br />
This meeting is open to the public.<br />
&nbsp;<br />
<strong>Registration is required for Zoom access. </strong>The <strong>Zoom login credentials</strong> will be provided in a confirmation email.<br />Location:<br />MCC Building<br />309 E. Beale St.<br />Kingman, AZ 86401
PRIORITY:3
TRANSP:TRANSPARENT
BEGIN:VALARM
TRIGGER:-PT5M
ACTION:DISPLAY
DESCRIPTION:Reminder
END:VALARM
END:VEVENT
END:VCALENDAR
