BEGIN:VCALENDAR
VERSION:2.0
CALSCALE:GREGORIAN
METHOD:PUBLISH
PRODID://JCOC//1386364
BEGIN:VEVENT
DTSTAMP:20260424T145959
VTIMEZONE:America/Chicago
DTSTART:20251205T173000Z
DTEND:20251205T190000Z
UID:1386364
SUMMARY:Legislative 101 Seminar
LOCATION:Jenks Chamber of Commerce , 161 S. Riverfront Drive, Suite 112, Jenks, OK, 74037
DESCRIPTION:Legislative 101 Seminar\n\n12/05/25 11:30 AM CST\n - 12/05/25 01:00 PM CST\Description:\nLegislative 101 Seminar\nJoin us for an introduction to the Chamber’s Legislative Committee and learn how the Chamber engages in advocacy on behalf of our members. This seminar will feature Josh Driskill, Tulsa Regional Chamber Vice President of Government Affairs, who will walk us through the legislative process, how the committee functions, and ways you can get involved.\n\nThis event is open to all Chamber members interested in serving on the Legislative Committee or learning more about the Chamber’s role in public policy.\n\n\n	\n	Who should attend: Current Legislative Committee members and any Chamber member curious about advocacy opportunities.\n	\n	Lunch (optional): $15 per person\n\nJosh Driskell, IOM, CCE, is the Vice President of Government Affairs for the Tulsa Regional Chamber, leading advocacy initiatives to drive pro-business policies. With more than 15 years of chamber leadership experience, he previously served as President & CEO of the Jenks Chamber and VP of Operations & Government Affairs for the Broken Arrow Chamber. A University of Tulsa graduate with a background in journalism, politics, and campaign management, Josh has successfully championed key public infrastructure and education initiatives. A Certified Chamber Executive (CCE) and graduate of the U.S. Chamber’s Institute for Organization Management, he is a recognized leader in the chamber industry, having held multiple state and national leadership roles. Honored as a 40 Under 40 by ACCE and Oklahoma Magazine, he brings expertise in advocacy, government affairs, nonprofit management, communication, and leadership.\Location:\nJenks Chamber of Commerce \n161 S. Riverfront Drive, Suite 112\nJenks, OK 74037
X-ALT-DESC;FMTTYPE=text/html:Legislative 101 Seminar<br /><br />12/05/25 11:30 AM CST - 12/05/25 01:00 PM CST<br />Description:<br /><p data-end="422" data-start="100"><strong data-end="127" data-start="100">Legislative 101 Seminar</strong><br data-end="130" data-start="127" />
Join us for an introduction to the Chamber&rsquo;s Legislative Committee and learn how the Chamber engages in advocacy on behalf of our members. This seminar will feature Josh Driskill, Tulsa Regional Chamber Vice President of Government Affairs, who will walk us through the legislative process, how the committee functions, and ways you can get involved.</p>

<p data-end="578" data-start="424">This event is open to all Chamber members interested in serving on the Legislative Committee or learning more about the Chamber&rsquo;s role in public policy.</p>

<ul data-end="746" data-start="580">
	<li data-end="705" data-start="580">
	<p data-end="705" data-start="582"><strong data-end="604" data-start="582">Who should attend:</strong> Current Legislative Committee members and any Chamber member curious about advocacy opportunities.</p>
	</li>
	<li data-end="746" data-start="708"><strong data-end="729" data-start="708">Lunch (optional):</strong> $15 per person</li>
</ul>
<strong>Josh Driskell</strong>, IOM, CCE, is the Vice President of Government Affairs for the Tulsa Regional Chamber, leading advocacy initiatives to drive pro-business policies. With more than 15 years of chamber leadership experience, he previously served as President &amp; CEO of the Jenks Chamber and VP of Operations &amp; Government Affairs for the Broken Arrow Chamber. A University of Tulsa graduate with a background in journalism, politics, and campaign management, Josh has successfully championed key public infrastructure and education initiatives. A Certified Chamber Executive (CCE) and graduate of the U.S. Chamber&rsquo;s Institute for Organization Management, he is a recognized leader in the chamber industry, having held multiple state and national leadership roles. Honored as a 40 Under 40 by ACCE and Oklahoma Magazine, he brings expertise in advocacy, government affairs, nonprofit management, communication, and leadership.<br />Location:<br />Jenks Chamber of Commerce <br />161 S. Riverfront Drive, Suite 112<br />Jenks, OK 74037
PRIORITY:3
TRANSP:TRANSPARENT
BEGIN:VALARM
TRIGGER:-PT5M
ACTION:DISPLAY
DESCRIPTION:Reminder
END:VALARM
END:VEVENT
END:VCALENDAR
