BEGIN:VCALENDAR
VERSION:2.0
CALSCALE:GREGORIAN
METHOD:PUBLISH
PRODID://PLYC//1386439
BEGIN:VEVENT
DTSTAMP:20260424T134218
VTIMEZONE:America/New_York
DTSTART:20251104T163000Z
DTEND:20251104T173000Z
UID:1386439
SUMMARY:Elara Caring Lunch & Learn
LOCATION:Marshall County Council on Aging, 1305 W. Harrison St., Plymouth, IN, 46563
DESCRIPTION:Elara Caring Lunch & Learn\n\n11/04/25 11:30 AM EST\n - 11/04/25 12:30 PM EST\Description:\nJoin us November 4th at 11:30am for a Lunch & Learn presentation with Jennifer Hoch, Account Executive with Elara Caring Hospice.  She will share information and resources available to you wherever you call home.  Elara Caring is a trusted name in home health and hospice care services. Please call 574-936-9904 to reserve your seat.\Location:\nMarshall County Council on Aging\n1305 W. Harrison St.\nPlymouth, IN 46563
X-ALT-DESC;FMTTYPE=text/html:Elara Caring Lunch & Learn<br /><br />11/04/25 11:30 AM EST - 11/04/25 12:30 PM EST<br />Description:<br />Join us November 4<sup>th </sup>at 11:30am for a Lunch &amp; Learn presentation with Jennifer Hoch, Account Executive with Elara Caring Hospice.&nbsp; She will share information and resources available to you wherever you call home.&nbsp;&nbsp;Elara Caring is a trusted name in home health and hospice care services. Please call 574-936-9904 to reserve your seat.<br />Location:<br />Marshall County Council on Aging<br />1305 W. Harrison St.<br />Plymouth, IN 46563
PRIORITY:3
TRANSP:TRANSPARENT
BEGIN:VALARM
TRIGGER:-PT5M
ACTION:DISPLAY
DESCRIPTION:Reminder
END:VALARM
END:VEVENT
END:VCALENDAR
