BEGIN:VCALENDAR
VERSION:2.0
CALSCALE:GREGORIAN
METHOD:PUBLISH
PRODID://PLYC//1386444
BEGIN:VEVENT
DTSTAMP:20260424T073006
VTIMEZONE:America/New_York
DTSTART:20260224T180000Z
DTEND:20260224T193000Z
UID:1386444
SUMMARY:Tech Time
LOCATION:Marshall County Council on Aging, 1305 W. Harrison St., Plymouth, IN, 46563
DESCRIPTION:Tech Time\n\n02/24/26 01:00 PM EST\n - 02/24/26 02:30 PM EST\Description:\nCindy from the Plymouth Public Library will be here every 4th Tuesday of the month from 1:00pm till 2:30pm. Cindy and her associates will be able to assist you with your Cell Phone or other Electronic questions.  No appointment needed, just stop in!  \Location:\nMarshall County Council on Aging\n1305 W. Harrison St.\nPlymouth, IN 46563
X-ALT-DESC;FMTTYPE=text/html:Tech Time<br /><br />02/24/26 01:00 PM EST - 02/24/26 02:30 PM EST<br />Description:<br />Cindy from the Plymouth Public Library will be here every 4th Tuesday of the month from 1:00pm till 2:30pm. Cindy and her associates will be able to assist you with your Cell Phone or other Electronic questions.&nbsp;&nbsp;No appointment needed, just stop in!&nbsp;&nbsp;<br />Location:<br />Marshall County Council on Aging<br />1305 W. Harrison St.<br />Plymouth, IN 46563
PRIORITY:3
TRANSP:TRANSPARENT
BEGIN:VALARM
TRIGGER:-PT5M
ACTION:DISPLAY
DESCRIPTION:Reminder
END:VALARM
END:VEVENT
END:VCALENDAR
