BEGIN:VCALENDAR
VERSION:2.0
CALSCALE:GREGORIAN
METHOD:PUBLISH
PRODID://PLYC//1386447
BEGIN:VEVENT
DTSTAMP:20260424T134218
VTIMEZONE:America/New_York
DTSTART:20251118T133000Z
DTEND:20251118T150000Z
UID:1386447
SUMMARY:Coffee & Doughnuts with Mayor Listenberger
LOCATION:Marshall County Council on Aging, 1305 W. Harrison St., Plymouth, IN, 46563
DESCRIPTION:Coffee & Doughnuts with Mayor Listenberger\n\n11/18/25 08:30 AM EST\n - 11/18/25 10:00 AM EST\Description:\nMeet Mayor Robert Listenberger at Marshall County Council on Aging    Tuesday, November 18th from 8:30-10:00 am for coffee and doughnuts.   Receive updates on Plymouth's latest happenings, with a short Q&A session to follow. Please RSVP to save your seat 574-936-9904.\Location:\nMarshall County Council on Aging\n1305 W. Harrison St.\nPlymouth, IN 46563
X-ALT-DESC;FMTTYPE=text/html:Coffee & Doughnuts with Mayor Listenberger<br /><br />11/18/25 08:30 AM EST - 11/18/25 10:00 AM EST<br />Description:<br />Meet Mayor Robert Listenberger at Marshall County Council on Aging &nbsp;&nbsp;&nbsp;Tuesday, November 18th from 8:30-10:00 am for coffee and doughnuts.&nbsp;&nbsp; Receive updates on Plymouth's latest happenings, with a short Q&amp;A session to follow. Please RSVP to save your seat 574-936-9904.<br />Location:<br />Marshall County Council on Aging<br />1305 W. Harrison St.<br />Plymouth, IN 46563
PRIORITY:3
TRANSP:TRANSPARENT
BEGIN:VALARM
TRIGGER:-PT5M
ACTION:DISPLAY
DESCRIPTION:Reminder
END:VALARM
END:VEVENT
END:VCALENDAR
