BEGIN:VCALENDAR
VERSION:2.0
CALSCALE:GREGORIAN
METHOD:PUBLISH
PRODID://KING//1386457
BEGIN:VEVENT
DTSTAMP:20260422T053745
VTIMEZONE:America/Denver
DTSTART:20251125T170000Z
DTEND:20251127T030000Z
UID:1386457
SUMMARY:Cosmic Bounce House: Inside!
LOCATION:Beale Celebrations, 201 N 4th St, Kingman, AZ, 86401
DESCRIPTION:Cosmic Bounce House: Inside!\n\n11/25/25 10:00 AM MST\n - 11/26/25 08:00 PM MST\Description:\nWhat are you doing while school is out?\n\nJoin us for “Cosmic Bounce House: Inside!”—a communityâ€‘powered indoor popâ€‘up to raise excitement (and funds) for a future permanent indoor play venue right here in Kingman!\n\nFriday 11/21:            10-8pm\nSaturday 11/22:        10-8pm\nTuesday 11/25:        10-8pm\nWednesday 11/26:    10-2pm (early closing)\n\nWhy You Should Be There\n• New & Improved! We're learning and improving each time.\n• Come bounce, jump, and giggle alongside local families and show your support for this familyâ€‘friendly vision of a permanent space.\n\nðŸŽˆ For Kids:\n• Clean inflatables inside a bright, climateâ€‘controlled space.\n• Easy to supervise inside an enclosed venue.\n\nâ˜• For Parents:\n• Free WiFi, comfortable seating and tables.\n• Outside food welcome, with refrigeration available—just keep it off the inflatables!\n• Clean restrooms with changing table counters. \n• Friendly staff and event volunteers will help enforce safety guidelines.\n\nðŸ¥— On-site Food Options:\n• The Healthy Bar, a local, ingredientâ€‘conscious food vendor, will be selling snacks, salads, and more.\n• Stop by their table to view their menu or share your dietary preferences or feedback.\n\nOur Mission:\nCosmic exists to strengthen Kingman by offering wholesome recreational opportunities. While plans for a permanent indoor facility are in progress, these shortâ€‘term popâ€‘ups help bring that dream to life today.\n\nIf attendance and community interest support the vision, events like this could become a regular staple for local families.\n\nMore information at https://cosmicbouncehouse.com/inside\Details:\nWhat are you doing while school is out?\n\nJoin us for “Cosmic Bounce House: Inside!”—a communityâ€‘powered indoor popâ€‘up to raise excitement (and funds) for a future permanent indoor play venue right here in Kingman!\n\nFriday 11/21:            10-8pm\nSaturday 11/22:        10-8pm\nTuesday 11/25:        10-8pm\nWednesday 11/26:    10-2pm (early closing)\n\nWhy You Should Be There\n• New & Improved! We're learning and improving each time.\n• Come bounce, jump, and giggle alongside local families and show your support for this familyâ€‘friendly vision of a permanent space.\n\nðŸŽˆ For Kids:\n• Clean inflatables inside a bright, climateâ€‘controlled space.\n• Easy to supervise inside an enclosed venue.\n\nâ˜• For Parents:\n• Free WiFi, comfortable seating and tables.\n• Outside food welcome, with refrigeration available—just keep it off the inflatables!\n• Clean restrooms with changing table counters. \n• Friendly staff and event volunteers will help enforce safety guidelines.\n\nðŸ¥— On-site Food Options:\n• The Healthy Bar, a local, ingredientâ€‘conscious food vendor, will be selling snacks, salads, and more.\n• Stop by their table to view their menu or share your dietary preferences or feedback.\n\nOur Mission:\nCosmic exists to strengthen Kingman by offering wholesome recreational opportunities. While plans for a permanent indoor facility are in progress, these shortâ€‘term popâ€‘ups help bring that dream to life today.\n\nIf attendance and community interest support the vision, events like this could become a regular staple for local families.\n\nMore information at https://cosmicbouncehouse.com/inside\Location:\nBeale Celebrations\n201 N 4th St\nKingman, AZ 86401
X-ALT-DESC;FMTTYPE=text/html:Cosmic Bounce House: Inside!<br /><br />11/25/25 10:00 AM MST - 11/26/25 08:00 PM MST<br />Description:<br />What are you doing while school is out?<br />
<br />
Join us for &ldquo;Cosmic Bounce House: Inside!&rdquo;&mdash;a communityâ€‘powered indoor popâ€‘up to raise excitement (and funds) for a future permanent indoor play venue right here in Kingman!<br />
<br />
Friday 11/21:&nbsp;&nbsp; &nbsp;&nbsp;&nbsp; &nbsp;&nbsp;&nbsp;&nbsp;&nbsp;10-8pm<br />
Saturday 11/22:&nbsp;&nbsp; &nbsp;&nbsp;&nbsp;&nbsp;&nbsp;10-8pm<br />
Tuesday 11/25:&nbsp;&nbsp; &nbsp;&nbsp;&nbsp;&nbsp;&nbsp;10-8pm<br />
Wednesday 11/26:&nbsp;&nbsp; &nbsp;10-2pm (early closing)<br />
<br />
Why You Should Be There<br />
&bull; New &amp; Improved! We're learning and improving each time.<br />
&bull; Come bounce, jump, and giggle alongside local families and show your support for this familyâ€‘friendly vision of a permanent space.<br />
<br />
ðŸŽˆ For Kids:<br />
&bull; Clean inflatables inside a bright, climateâ€‘controlled space.<br />
&bull; Easy to supervise inside an enclosed venue.<br />
<br />
â˜• For Parents:<br />
&bull; Free WiFi, comfortable seating and tables.<br />
&bull; Outside food welcome, with refrigeration available&mdash;just keep it off the inflatables!<br />
&bull; Clean restrooms with changing table counters.&nbsp;<br />
&bull; Friendly staff and event volunteers will help enforce safety guidelines.<br />
<br />
ðŸ¥— On-site Food Options:<br />
&bull; The Healthy Bar, a local, ingredientâ€‘conscious food vendor, will be selling snacks, salads, and more.<br />
&bull; Stop by their table to view their menu or share your dietary preferences or feedback.<br />
<br />
Our Mission:<br />
Cosmic exists to strengthen Kingman by offering wholesome recreational opportunities. While plans for a permanent indoor facility are in progress, these shortâ€‘term popâ€‘ups help bring that dream to life today.<br />
<br />
If attendance and community interest support the vision, events like this could become a regular staple for local families.<br />
<br />
More information at https://cosmicbouncehouse.com/inside<br />Details:<br />What are you doing while school is out?<br />
<br />
Join us for &ldquo;Cosmic Bounce House: Inside!&rdquo;&mdash;a communityâ€‘powered indoor popâ€‘up to raise excitement (and funds) for a future permanent indoor play venue right here in Kingman!<br />
<br />
Friday 11/21:&nbsp;&nbsp; &nbsp;&nbsp;&nbsp; &nbsp;&nbsp;&nbsp;&nbsp;&nbsp;10-8pm<br />
Saturday 11/22:&nbsp;&nbsp; &nbsp;&nbsp;&nbsp;&nbsp;&nbsp;10-8pm<br />
Tuesday 11/25:&nbsp;&nbsp; &nbsp;&nbsp;&nbsp;&nbsp;&nbsp;10-8pm<br />
Wednesday 11/26:&nbsp;&nbsp; &nbsp;10-2pm (early closing)<br />
<br />
Why You Should Be There<br />
&bull; New &amp; Improved! We're learning and improving each time.<br />
&bull; Come bounce, jump, and giggle alongside local families and show your support for this familyâ€‘friendly vision of a permanent space.<br />
<br />
ðŸŽˆ For Kids:<br />
&bull; Clean inflatables inside a bright, climateâ€‘controlled space.<br />
&bull; Easy to supervise inside an enclosed venue.<br />
<br />
â˜• For Parents:<br />
&bull; Free WiFi, comfortable seating and tables.<br />
&bull; Outside food welcome, with refrigeration available&mdash;just keep it off the inflatables!<br />
&bull; Clean restrooms with changing table counters.&nbsp;<br />
&bull; Friendly staff and event volunteers will help enforce safety guidelines.<br />
<br />
ðŸ¥— On-site Food Options:<br />
&bull; The Healthy Bar, a local, ingredientâ€‘conscious food vendor, will be selling snacks, salads, and more.<br />
&bull; Stop by their table to view their menu or share your dietary preferences or feedback.<br />
<br />
Our Mission:<br />
Cosmic exists to strengthen Kingman by offering wholesome recreational opportunities. While plans for a permanent indoor facility are in progress, these shortâ€‘term popâ€‘ups help bring that dream to life today.<br />
<br />
If attendance and community interest support the vision, events like this could become a regular staple for local families.<br />
<br />
More information at https://cosmicbouncehouse.com/inside<br />Location:<br />Beale Celebrations<br />201 N 4th St<br />Kingman, AZ 86401
PRIORITY:3
TRANSP:TRANSPARENT
BEGIN:VALARM
TRIGGER:-PT5M
ACTION:DISPLAY
DESCRIPTION:Reminder
END:VALARM
END:VEVENT
END:VCALENDAR
