BEGIN:VCALENDAR
VERSION:2.0
CALSCALE:GREGORIAN
METHOD:PUBLISH
PRODID://KING//1386475
BEGIN:VEVENT
DTSTAMP:20260422T053751
VTIMEZONE:America/Phoenix
DTSTART:20251110T170000Z
DTEND:20251110T200000Z
UID:1386475
SUMMARY:Greater Colorado River Chamber Alliance Meeting 
LOCATION:Buffalo Wild Wings -Â ConferenceÂ RoomÂ , 5601 AZ-95 Building I, Lake Havasu City, Ar, 86404
DESCRIPTION:Greater Colorado River Chamber Alliance Meeting \n\n11/10/25 10:00 AM MT\n - 11/10/25 01:00 PM MT\Description:\nColorado River Chamber Alliance\n\nMonday 11/10 10:00am to 1:00pm\n\nin the Conference Room \nabove Buffalo Wild Wings\n5601 AZ-95 Building I, \nLake Havasu City, AZ 86404\n\n \n\nPlease join for the upcoming Colorado River Chamber Alliance meeting on November 10th in Lake Havasu. \n\nThis meeting will take place at the brand-new Buffalo Wild Wings location out at the Shops at Lake Havasu. \n\nThe address is 5601 AZ-95 Building I, Lake Havasu City, AZ 86404. \n\nWe will be hosting the meeting in the upstairs conference room just above Buffalo Wild Wings. \n\nThe Colorado River Chamber Alliance is a collaborative network of chambers of commerce from across the western regions of Arizona and southern Utah. United by the shared goal of promoting regional prosperity, the Alliance works to amplify the voice of our business communities along the Colorado River corridor. \n\nBy combining resources, strengthening partnerships, and advocating for economic development, tourism, infrastructure, and workforce opportunities, the Alliance empowers member chambers to better serve their local businesses while working together for a stronger, more connected region.\n\n \n\nMeeting Schedule: \n\n \n\n10:00am \n\nWelcome and Introductions\n\n10:15am\n\nSpeaker: Chambers for Innovation and Clean Energy (Colin Diaz)\n\n11:00am\n\nSpeaker: US Chamber Updates (Jennings Imel)\n\n11:15 am \n\nLunch Break (Travel to lunch or bring lunch in) \n\n11:30am\n\nHost/Sponsor Welcome and Updates (Jarrett Portz and Stephanie Wilson)\n\n12:00pm -1:00pm\n\nChamber Updates\n\n1:00pm\n\nAdjourn\n\Location:\nBuffalo Wild Wings -Â ConferenceÂ RoomÂ \n5601 AZ-95 Building I\nLake Havasu City, Ar 86404
X-ALT-DESC;FMTTYPE=text/html:Greater Colorado River Chamber Alliance Meeting <br /><br />11/10/25 10:00 AM MT - 11/10/25 01:00 PM MT<br />Description:<br /><p><strong>Colorado River&nbsp;Chamber&nbsp;Alliance</strong></p>

<p><strong>Monday 11/10 10:00am to 1:00pm</strong></p>

<p><strong>in the&nbsp;Conference&nbsp;Room&nbsp;<br />
above Buffalo Wild Wings<br />
5601 AZ-95 Building I,&nbsp;<br />
Lake Havasu City, AZ 86404</strong></p>

<p>&nbsp;</p>

<p>Please join for the upcoming Colorado River Chamber Alliance meeting on November 10th in Lake Havasu.&nbsp;</p>

<p>This meeting will take place at the brand-new Buffalo Wild Wings location out at the Shops at Lake Havasu.&nbsp;</p>

<p>The address is 5601 AZ-95 Building I, Lake Havasu City, AZ 86404.&nbsp;</p>

<p>We will be hosting the meeting in the upstairs conference room just above Buffalo Wild Wings.&nbsp;</p>

<p>The Colorado River Chamber Alliance is a collaborative network of chambers of commerce from across the western regions of Arizona and southern Utah. United by the shared goal of promoting regional prosperity, the Alliance works to amplify the voice of our business communities along the Colorado River corridor.&nbsp;</p>

<p>By combining resources, strengthening partnerships, and advocating for economic development, tourism, infrastructure, and workforce opportunities, the Alliance empowers member chambers to better serve their local businesses while working together for a stronger, more connected region.</p>

<p>&nbsp;</p>

<p><strong>Meeting Schedule:&nbsp;</strong></p>

<p>&nbsp;</p>

<p>10:00am&nbsp;</p>

<p>Welcome and Introductions</p>

<p>10:15am</p>

<p>Speaker:&nbsp;Chambers for Innovation and Clean Energy (Colin Diaz)</p>

<p>11:00am</p>

<p>Speaker:&nbsp;US Chamber Updates (Jennings Imel)</p>

<p>11:15 am&nbsp;</p>

<p>Lunch Break (Travel to lunch or bring lunch in)&nbsp;</p>

<p>11:30am</p>

<p>Host/Sponsor Welcome and Updates (Jarrett Portz and Stephanie Wilson)</p>

<p>12:00pm -1:00pm</p>

<p>Chamber Updates</p>

<p>1:00pm</p>

<p>Adjourn</p>
<br />Location:<br />Buffalo Wild Wings -Â ConferenceÂ RoomÂ <br />5601 AZ-95 Building I<br />Lake Havasu City, Ar 86404
PRIORITY:3
TRANSP:TRANSPARENT
BEGIN:VALARM
TRIGGER:-PT5M
ACTION:DISPLAY
DESCRIPTION:Reminder
END:VALARM
END:VEVENT
END:VCALENDAR
