BEGIN:VCALENDAR
VERSION:2.0
CALSCALE:GREGORIAN
METHOD:PUBLISH
PRODID://OCON//1386505
BEGIN:VEVENT
DTSTAMP:20260424T154317
VTIMEZONE:America/New_York
DTSTART:20251105T140000Z
DTEND:20251105T153000Z
UID:1386505
SUMMARY:Educational Session | Local Innovative Health & Wellbeing Experts Panel Discussion
LOCATION:Oconee Chamber of Commerce, 55 Nancy Drive, Watkinsville, GA, 30677
DESCRIPTION:Educational Session | Local Innovative Health & Wellbeing Experts Panel Discussion\n\n11/05/25 09:00 AM EST\n - 11/05/25 10:30 AM EST\Description:\nJoin us for a Local Innovative Health and Wellbeing Expert Panel Discussion on Wednesday, November 5th from 9:00 a.m. - 10:30 a.m. You will get to hear from local health professionals about their style of practice and their method of healing may be different from typical treatments. \n\nPanelists:\nAudrey Blanchard - Blanchard Wellness Clinic\nDavid Chamblee - O2 Performance and Recovery\nChristopher Verdi - Core Restore\nMelissa Smith - New View Integrative Pediatrics\Location:\nOconee Chamber of Commerce\n55 Nancy Drive\nWatkinsville, GA 30677
X-ALT-DESC;FMTTYPE=text/html:Educational Session | Local Innovative Health & Wellbeing Experts Panel Discussion<br /><br />11/05/25 09:00 AM EST - 11/05/25 10:30 AM EST<br />Description:<br />Join us for a Local Innovative Health and Wellbeing Expert Panel Discussion on Wednesday, November 5th from 9:00 a.m. - 10:30 a.m. You will get to hear from local health professionals about their style of practice and their method of healing may be different from typical treatments.&nbsp;<br />
<br />
Panelists:<br />
Audrey Blanchard - Blanchard Wellness Clinic<br />
David Chamblee - O2 Performance and Recovery<br />
Christopher Verdi - Core Restore<br />
Melissa Smith - New View Integrative Pediatrics<br />Location:<br />Oconee Chamber of Commerce<br />55 Nancy Drive<br />Watkinsville, GA 30677
PRIORITY:3
TRANSP:TRANSPARENT
BEGIN:VALARM
TRIGGER:-PT5M
ACTION:DISPLAY
DESCRIPTION:Reminder
END:VALARM
END:VEVENT
END:VCALENDAR
