BEGIN:VCALENDAR
VERSION:2.0
CALSCALE:GREGORIAN
METHOD:PUBLISH
PRODID://OCON//1386507
BEGIN:VEVENT
DTSTAMP:20260424T153423
VTIMEZONE:America/New_York
DTSTART:20251110T203000Z
DTEND:20251110T213000Z
UID:1386507
SUMMARY:Groundbreaking | Brett's Backyard
LOCATION:Brett's Backyard, 1021 Jamestown Blvd, Watkinsville, GA, 30677
DESCRIPTION:Groundbreaking | Brett's Backyard\n\n11/10/25 03:30 PM EST\n - 11/10/25 04:30 PM EST\Description:\nBrett's Backyard is coming SOON - it has been a concept in the making for 16 years. Brett's Backyard is designed to provide their guests with multiple opportunities to visit the venue. There will be weekly specials, a full bar with seasonal offerings, a robust wine menu, indoor/outdoor dining space, curbside pickup station with online ordering platform, flexible seating for large groups, TVs for sports views.\Location:\nBrett's Backyard\n1021 Jamestown Blvd\nWatkinsville, GA 30677
X-ALT-DESC;FMTTYPE=text/html:Groundbreaking | Brett's Backyard<br /><br />11/10/25 03:30 PM EST - 11/10/25 04:30 PM EST<br />Description:<br />Brett's Backyard is coming SOON - it has been a concept in the making for 16 years. Brett's Backyard is designed to provide their guests with multiple opportunities to visit the venue. There will be weekly specials, a full bar with seasonal offerings, a robust wine menu, indoor/outdoor dining space, curbside pickup station with online ordering platform, flexible seating for large groups, TVs for sports views.<br />Location:<br />Brett's Backyard<br />1021 Jamestown Blvd<br />Watkinsville, GA 30677
PRIORITY:3
TRANSP:TRANSPARENT
BEGIN:VALARM
TRIGGER:-PT5M
ACTION:DISPLAY
DESCRIPTION:Reminder
END:VALARM
END:VEVENT
END:VCALENDAR
