BEGIN:VCALENDAR
VERSION:2.0
CALSCALE:GREGORIAN
METHOD:PUBLISH
PRODID://OCON//1386532
BEGIN:VEVENT
DTSTAMP:20260424T171550
VTIMEZONE:America/New_York
DTSTART:20251030T120000Z
DTEND:20251030T130000Z
UID:1386532
SUMMARY:8AM Coffee | Hosted by Synovus
LOCATION:Synovus, 2100 Experiment Station Road, Watkinsville, GA, 30677
DESCRIPTION:8AM Coffee | Hosted by Synovus\n\n10/30/25 08:00 AM EST\n - 10/30/25 09:00 AM EST\Description:\nJoin us for an 8AM Coffee - an open networking event held at one of our amazing partners businesses. \Location:\nSynovus\n2100 Experiment Station Road\nWatkinsville, GA 30677
X-ALT-DESC;FMTTYPE=text/html:8AM Coffee | Hosted by Synovus<br /><br />10/30/25 08:00 AM EST - 10/30/25 09:00 AM EST<br />Description:<br />Join us for an 8AM Coffee - an open networking event held at one of our amazing partners businesses.&nbsp;<br />Location:<br />Synovus<br />2100 Experiment Station Road<br />Watkinsville, GA 30677
PRIORITY:3
TRANSP:TRANSPARENT
BEGIN:VALARM
TRIGGER:-PT5M
ACTION:DISPLAY
DESCRIPTION:Reminder
END:VALARM
END:VEVENT
END:VCALENDAR
